BEGIN:VCALENDAR
VERSION:2.0
PRODID:-//Eventkalender Oberhessen - ECPv6.15.20//NONSGML v1.0//EN
CALSCALE:GREGORIAN
METHOD:PUBLISH
X-ORIGINAL-URL:https://kalender.landesgartenschau-oberhessen.de
X-WR-CALDESC:Veranstaltungen für Eventkalender Oberhessen
REFRESH-INTERVAL;VALUE=DURATION:PT1H
X-Robots-Tag:noindex
X-PUBLISHED-TTL:PT1H
BEGIN:VTIMEZONE
TZID:Europe/Berlin
BEGIN:DAYLIGHT
TZOFFSETFROM:+0100
TZOFFSETTO:+0200
TZNAME:CEST
DTSTART:20250330T010000
END:DAYLIGHT
BEGIN:STANDARD
TZOFFSETFROM:+0200
TZOFFSETTO:+0100
TZNAME:CET
DTSTART:20251026T010000
END:STANDARD
BEGIN:DAYLIGHT
TZOFFSETFROM:+0100
TZOFFSETTO:+0200
TZNAME:CEST
DTSTART:20260329T010000
END:DAYLIGHT
BEGIN:STANDARD
TZOFFSETFROM:+0200
TZOFFSETTO:+0100
TZNAME:CET
DTSTART:20261025T010000
END:STANDARD
BEGIN:DAYLIGHT
TZOFFSETFROM:+0100
TZOFFSETTO:+0200
TZNAME:CEST
DTSTART:20270328T010000
END:DAYLIGHT
BEGIN:STANDARD
TZOFFSETFROM:+0200
TZOFFSETTO:+0100
TZNAME:CET
DTSTART:20271031T010000
END:STANDARD
END:VTIMEZONE
BEGIN:VEVENT
DTSTART;TZID=Europe/Berlin:20260501T120000
DTEND;TZID=Europe/Berlin:20260501T120000
DTSTAMP:20260422T004458
CREATED:20260420T141804Z
LAST-MODIFIED:20260420T141804Z
UID:10002801-1777636800-1777636800@kalender.landesgartenschau-oberhessen.de
SUMMARY:Backhausfest Geiß-Nidda
DESCRIPTION:Zur Veranstaltung
URL:https://kalender.landesgartenschau-oberhessen.de/event/backhausfest-geiss-nidda/
LOCATION:Sportplatz Ober-Widdersheim\, 63667 Nidda-Ober-Widdersheim
CATEGORIES:Nidda
END:VEVENT
BEGIN:VEVENT
DTSTART;TZID=Europe/Berlin:20260619T163000
DTEND;TZID=Europe/Berlin:20260619T163000
DTSTAMP:20260422T004458
CREATED:20260420T141822Z
LAST-MODIFIED:20260420T141822Z
UID:10002895-1781886600-1781886600@kalender.landesgartenschau-oberhessen.de
SUMMARY:Botanische Führung Kurpark Bad Salzhausen
DESCRIPTION:Naturführerin Kerstin Bär nimmt Sie mit auf einen lehrreichen Spaziergang durch\nden Park und legt besonderes Augenmerk auf die botanischen Raritäten wie\nSalzpflanzen\, Erdbeerklee und Strand-Dreizack. Dabei sind auch die Quellen mit\nihrem Ursprung und Nutzung von besonderer Bedeutung. \nTreffpunkt: Kur- und Touristik-Info\, Bad Salzhausen\nTeilnehmerzahl: ab 6 Personen\nKostenbeitrag: 7\,00 € pro Person\nAnmeldung: Kur- und Touristik- Info\, Tel. (06043) 9633-0\n Zur Veranstaltung
URL:https://kalender.landesgartenschau-oberhessen.de/event/botanische-fuehrung-kurpark-bad-salzhausen-2/
LOCATION:Sportplatz Ober-Widdersheim\, 63667 Nidda-Ober-Widdersheim
CATEGORIES:Nidda
END:VEVENT
BEGIN:VEVENT
DTSTART;TZID=Europe/Berlin:20260620T160000
DTEND;TZID=Europe/Berlin:20260620T160000
DTSTAMP:20260422T004458
CREATED:20260420T141822Z
LAST-MODIFIED:20260420T141822Z
UID:10002897-1781971200-1781971200@kalender.landesgartenschau-oberhessen.de
SUMMARY:Intuitives Bogenschießen
DESCRIPTION:für Kinder und Erwachsene. Pädagogisch geführtes Bogenschießen mit Recurve-Bögen\nauf stationären Zielscheiben (Distanz ca. 10-12 m) vermittelt Fokus\,\nPersönlichkeitsstärke und innere Balance in der Natur. Dauer. 2 Stunden. \nTreffpunkt: Am Schäferteich\, Oberer Kurpark Bad Salzhausen\nKostenbeitrag: 15 Euro/Person\, 10 Euro/Kind (7-10 Jahren) – in Begleitung eines\nErwachsenen.\nAnmeldung: Stefanie Merkl\, Tel. 0156 797 080 51 oder Mail:\ninfo@wildewaldlinge.de. \n Zur Veranstaltung
URL:https://kalender.landesgartenschau-oberhessen.de/event/intuitives-bogenschiessen-10/
LOCATION:Sportplatz Ober-Widdersheim\, 63667 Nidda-Ober-Widdersheim
CATEGORIES:Nidda
END:VEVENT
END:VCALENDAR