BEGIN:VCALENDAR
VERSION:2.0
PRODID:-//Eventkalender Oberhessen - ECPv6.15.20//NONSGML v1.0//EN
CALSCALE:GREGORIAN
METHOD:PUBLISH
X-ORIGINAL-URL:https://kalender.landesgartenschau-oberhessen.de
X-WR-CALDESC:Veranstaltungen für Eventkalender Oberhessen
REFRESH-INTERVAL;VALUE=DURATION:PT1H
X-Robots-Tag:noindex
X-PUBLISHED-TTL:PT1H
BEGIN:VTIMEZONE
TZID:Europe/Berlin
BEGIN:DAYLIGHT
TZOFFSETFROM:+0100
TZOFFSETTO:+0200
TZNAME:CEST
DTSTART:20250330T010000
END:DAYLIGHT
BEGIN:STANDARD
TZOFFSETFROM:+0200
TZOFFSETTO:+0100
TZNAME:CET
DTSTART:20251026T010000
END:STANDARD
BEGIN:DAYLIGHT
TZOFFSETFROM:+0100
TZOFFSETTO:+0200
TZNAME:CEST
DTSTART:20260329T010000
END:DAYLIGHT
BEGIN:STANDARD
TZOFFSETFROM:+0200
TZOFFSETTO:+0100
TZNAME:CET
DTSTART:20261025T010000
END:STANDARD
BEGIN:DAYLIGHT
TZOFFSETFROM:+0100
TZOFFSETTO:+0200
TZNAME:CEST
DTSTART:20270328T010000
END:DAYLIGHT
BEGIN:STANDARD
TZOFFSETFROM:+0200
TZOFFSETTO:+0100
TZNAME:CET
DTSTART:20271031T010000
END:STANDARD
END:VTIMEZONE
BEGIN:VEVENT
DTSTART;TZID=Europe/Berlin:20260509T160000
DTEND;TZID=Europe/Berlin:20260509T160000
DTSTAMP:20260422T002110
CREATED:20260420T141807Z
LAST-MODIFIED:20260420T141807Z
UID:10002819-1778342400-1778342400@kalender.landesgartenschau-oberhessen.de
SUMMARY:Intuitives Bogenschießen
DESCRIPTION:für Kinder und Erwachsene. Pädagogisch geführtes Bogenschießen mit Recurve-Bögen\nauf stationären Zielscheiben (Distanz ca. 10-12 m) vermittelt Fokus\,\nPersönlichkeitsstärke und innere Balance in der Natur. Dauer. 2 Stunden. \nTreffpunkt: Am Schäferteich\, Oberer Kurpark Bad Salzhausen\nKostenbeitrag: 15 Euro/Person\, 10 Euro/Kind (7-10 Jahren) – in Begleitung eines\nErwachsenen.\nAnmeldung: Stefanie Merkl\, Tel. 0156 797 080 51 oder Mail:\ninfo@wildewaldlinge.de. \n Zur Veranstaltung
URL:https://kalender.landesgartenschau-oberhessen.de/event/intuitives-bogenschiessen-8/
LOCATION:Schützenhaus Ulfa\, 63667 Nidda-Ulfa
CATEGORIES:Nidda
END:VEVENT
BEGIN:VEVENT
DTSTART;TZID=Europe/Berlin:20260617T190000
DTEND;TZID=Europe/Berlin:20260617T190000
DTSTAMP:20260422T002110
CREATED:20260420T141821Z
LAST-MODIFIED:20260420T141821Z
UID:10002891-1781722800-1781722800@kalender.landesgartenschau-oberhessen.de
SUMMARY:Shared Reading in der Stadtbibliothek
DESCRIPTION:Gemeinsam Lesen – Einmal pro Monat Mittwochs von 17 – 18.30 Uhr\nKeine Anmeldung notwendig.\nDie Idee von Shared Reading kommt aus England. Erlebe\, wie Geschichten\nverbinden: Wir lesen gemeinsam\, tauschen Gedanken aus – ganz ohne Vorwissen\,\neinfach mitten ins Gespräch.\nTermine:\n14. Januar\n11. Februar\n15. April\n20. Mai\n17. Juni\n Zur Veranstaltung
URL:https://kalender.landesgartenschau-oberhessen.de/event/shared-reading-in-der-stadtbibliothek-8/
LOCATION:Schützenhaus Ulfa\, 63667 Nidda-Ulfa
CATEGORIES:Nidda
END:VEVENT
END:VCALENDAR