BEGIN:VCALENDAR
VERSION:2.0
PRODID:-//Eventkalender Oberhessen - ECPv6.15.20//NONSGML v1.0//EN
CALSCALE:GREGORIAN
METHOD:PUBLISH
X-ORIGINAL-URL:https://kalender.landesgartenschau-oberhessen.de
X-WR-CALDESC:Veranstaltungen für Eventkalender Oberhessen
REFRESH-INTERVAL;VALUE=DURATION:PT1H
X-Robots-Tag:noindex
X-PUBLISHED-TTL:PT1H
BEGIN:VTIMEZONE
TZID:Europe/Berlin
BEGIN:DAYLIGHT
TZOFFSETFROM:+0100
TZOFFSETTO:+0200
TZNAME:CEST
DTSTART:20250330T010000
END:DAYLIGHT
BEGIN:STANDARD
TZOFFSETFROM:+0200
TZOFFSETTO:+0100
TZNAME:CET
DTSTART:20251026T010000
END:STANDARD
BEGIN:DAYLIGHT
TZOFFSETFROM:+0100
TZOFFSETTO:+0200
TZNAME:CEST
DTSTART:20260329T010000
END:DAYLIGHT
BEGIN:STANDARD
TZOFFSETFROM:+0200
TZOFFSETTO:+0100
TZNAME:CET
DTSTART:20261025T010000
END:STANDARD
BEGIN:DAYLIGHT
TZOFFSETFROM:+0100
TZOFFSETTO:+0200
TZNAME:CEST
DTSTART:20270328T010000
END:DAYLIGHT
BEGIN:STANDARD
TZOFFSETFROM:+0200
TZOFFSETTO:+0100
TZNAME:CET
DTSTART:20271031T010000
END:STANDARD
END:VTIMEZONE
BEGIN:VEVENT
DTSTART;TZID=Europe/Berlin:20260509T110000
DTEND;TZID=Europe/Berlin:20260509T110000
DTSTAMP:20260422T001828
CREATED:20260420T141807Z
LAST-MODIFIED:20260420T141807Z
UID:10002817-1778324400-1778324400@kalender.landesgartenschau-oberhessen.de
SUMMARY:Frühjahrsputz Ober-Widdersheim
DESCRIPTION:Zur Veranstaltung
URL:https://kalender.landesgartenschau-oberhessen.de/event/fruehjahrsputz-ober-widdersheim/
LOCATION:Oberer Kurpark Bad Salzhausen
CATEGORIES:Nidda
END:VEVENT
BEGIN:VEVENT
DTSTART;TZID=Europe/Berlin:20260517T190000
DTEND;TZID=Europe/Berlin:20260517T190000
DTSTAMP:20260422T001828
CREATED:20260420T141812Z
LAST-MODIFIED:20260420T141812Z
UID:10002845-1779044400-1779044400@kalender.landesgartenschau-oberhessen.de
SUMMARY:Pistorius 2026 - 500 Jahre Reformation in Nidda
DESCRIPTION:Eine Reise zu Johannes Pistorius und seinem Leben in ereignisreicher Zeit –\nVortrag von apl. Prof. Dr. Volkmar Ortmann (JLU Gießen\, Institut für Ev.\nTheologie\, Reformationsgeschichte) zum Internationalen Museumstag. Eintritt\nfrei.\nAnmeldung erforderlich: anmeldung-pistorius@gmx.de\n Zur Veranstaltung
URL:https://kalender.landesgartenschau-oberhessen.de/event/pistorius-2026-500-jahre-reformation-in-nidda/
LOCATION:Oberer Kurpark Bad Salzhausen
CATEGORIES:Nidda
END:VEVENT
BEGIN:VEVENT
DTSTART;TZID=Europe/Berlin:20260619T020000
DTEND;TZID=Europe/Berlin:20260619T020000
DTSTAMP:20260422T001828
CREATED:20260420T141822Z
LAST-MODIFIED:20260420T141822Z
UID:10002894-1781834400-1781834400@kalender.landesgartenschau-oberhessen.de
SUMMARY:Pokal-Schießen ört. Vereine
DESCRIPTION:Zur Veranstaltung
URL:https://kalender.landesgartenschau-oberhessen.de/event/pokal-schiessen-oert-vereine/
LOCATION:Oberer Kurpark Bad Salzhausen
CATEGORIES:Nidda
END:VEVENT
BEGIN:VEVENT
DTSTART;TZID=Europe/Berlin:20260621T173000
DTEND;TZID=Europe/Berlin:20260621T173000
DTSTAMP:20260422T001828
CREATED:20260420T141825Z
LAST-MODIFIED:20260420T141825Z
UID:10002910-1782063000-1782063000@kalender.landesgartenschau-oberhessen.de
SUMMARY:Kurkonzert mit Anita Vidovic & Frank Mignon
DESCRIPTION:deutsche und internationale Gassenhauer von gestern bis heute\, von Schlager bis\nPop\nin der Evangelischen Kirche in Bad Salzhausen\nDer Eintritt ist frei!\n Zur Veranstaltung
URL:https://kalender.landesgartenschau-oberhessen.de/event/kurkonzert-mit-anita-vidovic-frank-mignon-5/
LOCATION:Oberer Kurpark Bad Salzhausen
CATEGORIES:Nidda
END:VEVENT
END:VCALENDAR