BEGIN:VCALENDAR
VERSION:2.0
PRODID:-//Eventkalender Oberhessen - ECPv6.15.20//NONSGML v1.0//EN
CALSCALE:GREGORIAN
METHOD:PUBLISH
X-WR-CALNAME:Eventkalender Oberhessen
X-ORIGINAL-URL:https://kalender.landesgartenschau-oberhessen.de
X-WR-CALDESC:Veranstaltungen für Eventkalender Oberhessen
REFRESH-INTERVAL;VALUE=DURATION:PT1H
X-Robots-Tag:noindex
X-PUBLISHED-TTL:PT1H
BEGIN:VTIMEZONE
TZID:Europe/Berlin
BEGIN:DAYLIGHT
TZOFFSETFROM:+0100
TZOFFSETTO:+0200
TZNAME:CEST
DTSTART:20250330T010000
END:DAYLIGHT
BEGIN:STANDARD
TZOFFSETFROM:+0200
TZOFFSETTO:+0100
TZNAME:CET
DTSTART:20251026T010000
END:STANDARD
BEGIN:DAYLIGHT
TZOFFSETFROM:+0100
TZOFFSETTO:+0200
TZNAME:CEST
DTSTART:20260329T010000
END:DAYLIGHT
BEGIN:STANDARD
TZOFFSETFROM:+0200
TZOFFSETTO:+0100
TZNAME:CET
DTSTART:20261025T010000
END:STANDARD
BEGIN:DAYLIGHT
TZOFFSETFROM:+0100
TZOFFSETTO:+0200
TZNAME:CEST
DTSTART:20270328T010000
END:DAYLIGHT
BEGIN:STANDARD
TZOFFSETFROM:+0200
TZOFFSETTO:+0100
TZNAME:CET
DTSTART:20271031T010000
END:STANDARD
END:VTIMEZONE
BEGIN:VEVENT
DTSTART;TZID=Europe/Berlin:20260801T160000
DTEND;TZID=Europe/Berlin:20260801T160000
DTSTAMP:20260422T004435
CREATED:20260420T143021Z
LAST-MODIFIED:20260420T143021Z
UID:10002925-1785600000-1785600000@kalender.landesgartenschau-oberhessen.de
SUMMARY:Kinderfest mit Hüpfburg und Rock am Limes
DESCRIPTION:Veranstaltung im Zelt und auf dem Sportplatz Hüpfburg am Nachmittag und\nLivemusik am Abend lädt Sie ein.\n Zur Veranstaltung
URL:https://kalender.landesgartenschau-oberhessen.de/event/kinderfest-mit-huepfburg-und-rock-am-limes/
LOCATION:Limeshain\, An der Dicken Eiche 11\, 11\, 63694 Limeshain
CATEGORIES:Limeshain
END:VEVENT
END:VCALENDAR