BEGIN:VCALENDAR
VERSION:2.0
PRODID:-//Eventkalender Oberhessen - ECPv6.15.20//NONSGML v1.0//EN
CALSCALE:GREGORIAN
METHOD:PUBLISH
X-ORIGINAL-URL:https://kalender.landesgartenschau-oberhessen.de
X-WR-CALDESC:Veranstaltungen für Eventkalender Oberhessen
REFRESH-INTERVAL;VALUE=DURATION:PT1H
X-Robots-Tag:noindex
X-PUBLISHED-TTL:PT1H
BEGIN:VTIMEZONE
TZID:Europe/Berlin
BEGIN:DAYLIGHT
TZOFFSETFROM:+0100
TZOFFSETTO:+0200
TZNAME:CEST
DTSTART:20250330T010000
END:DAYLIGHT
BEGIN:STANDARD
TZOFFSETFROM:+0200
TZOFFSETTO:+0100
TZNAME:CET
DTSTART:20251026T010000
END:STANDARD
BEGIN:DAYLIGHT
TZOFFSETFROM:+0100
TZOFFSETTO:+0200
TZNAME:CEST
DTSTART:20260329T010000
END:DAYLIGHT
BEGIN:STANDARD
TZOFFSETFROM:+0200
TZOFFSETTO:+0100
TZNAME:CET
DTSTART:20261025T010000
END:STANDARD
BEGIN:DAYLIGHT
TZOFFSETFROM:+0100
TZOFFSETTO:+0200
TZNAME:CEST
DTSTART:20270328T010000
END:DAYLIGHT
BEGIN:STANDARD
TZOFFSETFROM:+0200
TZOFFSETTO:+0100
TZNAME:CET
DTSTART:20271031T010000
END:STANDARD
END:VTIMEZONE
BEGIN:VEVENT
DTSTART;TZID=Europe/Berlin:20260425T110000
DTEND;TZID=Europe/Berlin:20260425T110000
DTSTAMP:20260421T115714
CREATED:20260420T141800Z
LAST-MODIFIED:20260420T141800Z
UID:10002782-1777114800-1777114800@kalender.landesgartenschau-oberhessen.de
SUMMARY:Instandsetzung des Sportgeländes
DESCRIPTION:Zur Veranstaltung
URL:https://kalender.landesgartenschau-oberhessen.de/event/instandsetzung-des-sportgelaendes/
LOCATION:Klinik Rabenstein
CATEGORIES:Nidda
END:VEVENT
BEGIN:VEVENT
DTSTART;TZID=Europe/Berlin:20260426T170000
DTEND;TZID=Europe/Berlin:20260426T170000
DTSTAMP:20260421T115714
CREATED:20260420T141801Z
LAST-MODIFIED:20260420T141801Z
UID:10002788-1777222800-1777222800@kalender.landesgartenschau-oberhessen.de
SUMMARY:Heimatmuseum - Sonderausstellung
DESCRIPTION:»Johannes Pistorius und seine Zeit« – 500 Jahre Reformation in Nidda\n Zur Veranstaltung
URL:https://kalender.landesgartenschau-oberhessen.de/event/heimatmuseum-sonderausstellung-2/
LOCATION:Klinik Rabenstein
CATEGORIES:Nidda
END:VEVENT
BEGIN:VEVENT
DTSTART;TZID=Europe/Berlin:20260503T170000
DTEND;TZID=Europe/Berlin:20260503T170000
DTSTAMP:20260421T115714
CREATED:20260420T141804Z
LAST-MODIFIED:20260420T141804Z
UID:10002806-1777827600-1777827600@kalender.landesgartenschau-oberhessen.de
SUMMARY:Heimatmuseum - Sonderausstellung
DESCRIPTION:»Johannes Pistorius und seine Zeit« – 500 Jahre Reformation in Nidda\n Zur Veranstaltung
URL:https://kalender.landesgartenschau-oberhessen.de/event/heimatmuseum-sonderausstellung-4/
LOCATION:Klinik Rabenstein
CATEGORIES:Nidda
END:VEVENT
BEGIN:VEVENT
DTSTART;TZID=Europe/Berlin:20260514T130000
DTEND;TZID=Europe/Berlin:20260514T130000
DTSTAMP:20260421T115714
CREATED:20260420T141811Z
LAST-MODIFIED:20260420T141811Z
UID:10002837-1778763600-1778763600@kalender.landesgartenschau-oberhessen.de
SUMMARY:Straßenfest Ober-Widdersheim
DESCRIPTION:Zur Veranstaltung
URL:https://kalender.landesgartenschau-oberhessen.de/event/strassenfest-ober-widdersheim/
LOCATION:Klinik Rabenstein
CATEGORIES:Nidda
END:VEVENT
BEGIN:VEVENT
DTSTART;TZID=Europe/Berlin:20260517T120000
DTEND;TZID=Europe/Berlin:20260517T120000
DTSTAMP:20260421T115714
CREATED:20260420T141812Z
LAST-MODIFIED:20260420T141812Z
UID:10002843-1779019200-1779019200@kalender.landesgartenschau-oberhessen.de
SUMMARY:Führung im Steinbruch Michelnau
DESCRIPTION:Unter der Leitung der Freunde des Steinbruchs erfahren interessierte Gäste\nWissenswertes und Spannendes über den Ursprung des heutigen Geotops und\nIndustriedenkmals und können dabei den Spuren der Zeit auf den Grund gehen.\nDauer der Führung:  ca. 1\,5 Stunden\, festes Schuhwerk von Vorteil\nTreffpunkt: Parkplatz Steinbruchgelände\nKostenbeitrag: 7 € pro Person\, Kinder ab 6 Jahren 3\,50 €\, bitte Führungsgebühr\npassend mitbringen\nAnmeldung: Tel. 0160 918 580 61 oder Mail: fuehrung@steinbruch-michelnau.de\n Zur Veranstaltung
URL:https://kalender.landesgartenschau-oberhessen.de/event/fuehrung-im-steinbruch-michelnau-3/
LOCATION:Klinik Rabenstein
CATEGORIES:Nidda
END:VEVENT
BEGIN:VEVENT
DTSTART;TZID=Europe/Berlin:20260521T120000
DTEND;TZID=Europe/Berlin:20260521T120000
DTSTAMP:20260421T115714
CREATED:20260420T141813Z
LAST-MODIFIED:20260420T141813Z
UID:10002849-1779364800-1779364800@kalender.landesgartenschau-oberhessen.de
SUMMARY:Eltern-Kind-Kreis \,\,Schäfchentreff “ Nidda-Ulfa
DESCRIPTION:Eltern-Kind-Kreis „Schäfchentreff“ in Nidda-Ulfa\nEingeladen sind alle Eltern mit Babys und Kleinkindern bis zum\nKindergarteneintritt.\nBei unserem „Schäfchentreff“ singen wir miteinander\, spielen\, entdecken Gott und\ndie Welt und stärken uns mit einem gemeinsamen Frühstück.\nDabei begleitet uns das Konzept „Von Anfang an“ und das kleine Schäfchen\n“Pauli“.\nEinmal im Monat gibt es einen „Auftankmorgen“ – die Mütterpause\,\nmit Inputs und Diskussionen zu Alltagsthemen aus Familie und Erziehung.\nAnmeldung erforderlich unter Tel. 06043-405134 bei Katja Sang.\nVeranstalter: Ev. Gemeinschaft Ulfa e.V        www.eg-ulfa.de\n Zur Veranstaltung
URL:https://kalender.landesgartenschau-oberhessen.de/event/eltern-kind-kreis-schaefchentreff-nidda-ulfa-5/
LOCATION:Klinik Rabenstein
CATEGORIES:Nidda
END:VEVENT
BEGIN:VEVENT
DTSTART;TZID=Europe/Berlin:20260524T130000
DTEND;TZID=Europe/Berlin:20260524T130000
DTSTAMP:20260421T115714
CREATED:20260420T141814Z
LAST-MODIFIED:20260420T141814Z
UID:10002855-1779627600-1779627600@kalender.landesgartenschau-oberhessen.de
SUMMARY:Pfingstgrillen/Gottesdienst/Einführung Konfirmanden
DESCRIPTION:Zur Veranstaltung
URL:https://kalender.landesgartenschau-oberhessen.de/event/pfingstgrillen-gottesdienst-einfuehrung-konfirmanden-2/
LOCATION:Klinik Rabenstein
CATEGORIES:Nidda
END:VEVENT
BEGIN:VEVENT
DTSTART;TZID=Europe/Berlin:20260602T110000
DTEND;TZID=Europe/Berlin:20260602T110000
DTSTAMP:20260421T115714
CREATED:20260420T141818Z
LAST-MODIFIED:20260420T141818Z
UID:10002871-1780398000-1780398000@kalender.landesgartenschau-oberhessen.de
SUMMARY:Eltern - Kind Oase 2026
DESCRIPTION:Gruppe 2\nWer: Kinder von 0 – 2 Jahren\nWo: im Gemeinderaum des Familienzentrums in Wallernhausen\nWann: alle 14 Tage an einem Dienstag von 9.00 – 11.00 Uhr\nWas: Lieder\, Fingerspiele\, ein gemeinsames Frühstück\, Freispiel und es soll Raum\nsein für einen gemeinsamen Austausch\n Zur Veranstaltung
URL:https://kalender.landesgartenschau-oberhessen.de/event/eltern-kind-oase-2026-6/
LOCATION:Klinik Rabenstein
CATEGORIES:Nidda
END:VEVENT
BEGIN:VEVENT
DTSTART;TZID=Europe/Berlin:20260611T173000
DTEND;TZID=Europe/Berlin:20260611T173000
DTSTAMP:20260421T115714
CREATED:20260420T141820Z
LAST-MODIFIED:20260420T141820Z
UID:10002883-1781199000-1781199000@kalender.landesgartenschau-oberhessen.de
SUMMARY:Bücherwürmchen
DESCRIPTION:Die Bücherwürmchen für Kinder von 5-7 Jahren.\nEinmal pro Monat donnerstags 15:30 Uhr.\nMaterialbeitrag: 5\,00€\n Zur Veranstaltung
URL:https://kalender.landesgartenschau-oberhessen.de/event/buecherwuermchen-9/
LOCATION:Klinik Rabenstein
CATEGORIES:Nidda
END:VEVENT
BEGIN:VEVENT
DTSTART;TZID=Europe/Berlin:20260619T190000
DTEND;TZID=Europe/Berlin:20260619T190000
DTSTAMP:20260421T115714
CREATED:20260420T141822Z
LAST-MODIFIED:20260420T141822Z
UID:10002896-1781895600-1781895600@kalender.landesgartenschau-oberhessen.de
SUMMARY:»Johannes Pistorius und seine Zeit« 
DESCRIPTION:Historische Stadtführung mit Bewirtung\nKosten: 12 €\nAnmeldung erforderlich: anmeldung-pistorius@gmx.de\n Zur Veranstaltung
URL:https://kalender.landesgartenschau-oberhessen.de/event/johannes-pistorius-und-seine-zeit-3/
LOCATION:Klinik Rabenstein
CATEGORIES:Nidda
END:VEVENT
END:VCALENDAR