BEGIN:VCALENDAR
VERSION:2.0
PRODID:-//Eventkalender Oberhessen - ECPv6.15.20//NONSGML v1.0//EN
CALSCALE:GREGORIAN
METHOD:PUBLISH
X-WR-CALNAME:Eventkalender Oberhessen
X-ORIGINAL-URL:https://kalender.landesgartenschau-oberhessen.de
X-WR-CALDESC:Veranstaltungen für Eventkalender Oberhessen
REFRESH-INTERVAL;VALUE=DURATION:PT1H
X-Robots-Tag:noindex
X-PUBLISHED-TTL:PT1H
BEGIN:VTIMEZONE
TZID:Europe/Berlin
BEGIN:DAYLIGHT
TZOFFSETFROM:+0100
TZOFFSETTO:+0200
TZNAME:CEST
DTSTART:20250330T010000
END:DAYLIGHT
BEGIN:STANDARD
TZOFFSETFROM:+0200
TZOFFSETTO:+0100
TZNAME:CET
DTSTART:20251026T010000
END:STANDARD
BEGIN:DAYLIGHT
TZOFFSETFROM:+0100
TZOFFSETTO:+0200
TZNAME:CEST
DTSTART:20260329T010000
END:DAYLIGHT
BEGIN:STANDARD
TZOFFSETFROM:+0200
TZOFFSETTO:+0100
TZNAME:CET
DTSTART:20261025T010000
END:STANDARD
BEGIN:DAYLIGHT
TZOFFSETFROM:+0100
TZOFFSETTO:+0200
TZNAME:CEST
DTSTART:20270328T010000
END:DAYLIGHT
BEGIN:STANDARD
TZOFFSETFROM:+0200
TZOFFSETTO:+0100
TZNAME:CET
DTSTART:20271031T010000
END:STANDARD
END:VTIMEZONE
BEGIN:VEVENT
DTSTART;TZID=Europe/Berlin:20260623T200000
DTEND;TZID=Europe/Berlin:20260623T200000
DTSTAMP:20260421T234238
CREATED:20260420T141825Z
LAST-MODIFIED:20260420T141825Z
UID:10002913-1782244800-1782244800@kalender.landesgartenschau-oberhessen.de
SUMMARY:Intuitives Bogenschießen
DESCRIPTION:After Work Bogenschießen. Pädagogisch geführtes Bogenschießen mit Recurve-Bögen\nauf stationären Zielscheiben (Distanz ca. 10-12 m) vermittelt Fokus\,\nPersönlichkeitsstärke und innere Balance in der Natur. Dauer: 1\,5 Stunden. \nTreffpunkt: Am Schäferteich\, Oberer Kurpark Bad Salzhausen\nKostenbeitrag: 15 Euro/Person \nAnmeldung: Stefanie Merkl\, Tel. 0156 797 080 51 oder Mail:\ninfo@wildewaldlinge.de. \n Zur Veranstaltung
URL:https://kalender.landesgartenschau-oberhessen.de/event/intuitives-bogenschiessen-11/
LOCATION:Kirche Unter-Lais\, 63667 Nidda-Unter-Lais
CATEGORIES:Nidda
END:VEVENT
END:VCALENDAR