BEGIN:VCALENDAR
VERSION:2.0
PRODID:-//Eventkalender Oberhessen - ECPv6.15.20//NONSGML v1.0//EN
CALSCALE:GREGORIAN
METHOD:PUBLISH
X-WR-CALNAME:Eventkalender Oberhessen
X-ORIGINAL-URL:https://kalender.landesgartenschau-oberhessen.de
X-WR-CALDESC:Veranstaltungen für Eventkalender Oberhessen
REFRESH-INTERVAL;VALUE=DURATION:PT1H
X-Robots-Tag:noindex
X-PUBLISHED-TTL:PT1H
BEGIN:VTIMEZONE
TZID:Europe/Berlin
BEGIN:DAYLIGHT
TZOFFSETFROM:+0100
TZOFFSETTO:+0200
TZNAME:CEST
DTSTART:20250330T010000
END:DAYLIGHT
BEGIN:STANDARD
TZOFFSETFROM:+0200
TZOFFSETTO:+0100
TZNAME:CET
DTSTART:20251026T010000
END:STANDARD
BEGIN:DAYLIGHT
TZOFFSETFROM:+0100
TZOFFSETTO:+0200
TZNAME:CEST
DTSTART:20260329T010000
END:DAYLIGHT
BEGIN:STANDARD
TZOFFSETFROM:+0200
TZOFFSETTO:+0100
TZNAME:CET
DTSTART:20261025T010000
END:STANDARD
BEGIN:DAYLIGHT
TZOFFSETFROM:+0100
TZOFFSETTO:+0200
TZNAME:CEST
DTSTART:20270328T010000
END:DAYLIGHT
BEGIN:STANDARD
TZOFFSETFROM:+0200
TZOFFSETTO:+0100
TZNAME:CET
DTSTART:20271031T010000
END:STANDARD
END:VTIMEZONE
BEGIN:VEVENT
DTSTART;TZID=Europe/Berlin:20260423T120000
DTEND;TZID=Europe/Berlin:20260423T120000
DTSTAMP:20260421T113249
CREATED:20260420T141758Z
LAST-MODIFIED:20260420T141758Z
UID:10002773-1776945600-1776945600@kalender.landesgartenschau-oberhessen.de
SUMMARY:Eltern-Kind-Kreis \,\,Schäfchentreff “ Nidda-Ulfa
DESCRIPTION:Eltern-Kind-Kreis „Schäfchentreff“ in Nidda-Ulfa\nEingeladen sind alle Eltern mit Babys und Kleinkindern bis zum\nKindergarteneintritt.\nBei unserem „Schäfchentreff“ singen wir miteinander\, spielen\, entdecken Gott und\ndie Welt und stärken uns mit einem gemeinsamen Frühstück.\nDabei begleitet uns das Konzept „Von Anfang an“ und das kleine Schäfchen\n“Pauli“.\nEinmal im Monat gibt es einen „Auftankmorgen“ – die Mütterpause\,\nmit Inputs und Diskussionen zu Alltagsthemen aus Familie und Erziehung.\nAnmeldung erforderlich unter Tel. 06043-405134 bei Katja Sang.\nVeranstalter: Ev. Gemeinschaft Ulfa e.V        www.eg-ulfa.de\n Zur Veranstaltung
URL:https://kalender.landesgartenschau-oberhessen.de/event/eltern-kind-kreis-schaefchentreff-nidda-ulfa/
LOCATION:Heimatmuseum Nidda\, Raun 1/Markt 1\, 63667 Nidda
CATEGORIES:Nidda
END:VEVENT
BEGIN:VEVENT
DTSTART;TZID=Europe/Berlin:20260426T130000
DTEND;TZID=Europe/Berlin:20260426T130000
DTSTAMP:20260421T113249
CREATED:20260420T141801Z
LAST-MODIFIED:20260420T141801Z
UID:10002786-1777208400-1777208400@kalender.landesgartenschau-oberhessen.de
SUMMARY:Tag der offenen Stalltür - Haubenmühle
DESCRIPTION:Entdecke das Hofgut Haubenmühle und das wunderschöne Gelände rundherum bei einem\nbesonderen Veranstaltungstag für die ganze Familie!\nFreu dich auf ein buntes Kinderprogramm\, bei dem kleine Entdecker viel erleben\nkönnen. Dazu erwarten dich leckere Speisen und erfrischende Getränke\, die zum\nGenießen und Verweilen einladen.\nAn regionalen Verkaufsständen kannst du außerdem tolle Produkte aus der Umgebung\nentdecken. Ob mit Familie\, Freunden oder einfach zum gemütlichen Schlendern –\nhier ist für Groß und Klein etwas dabei.\nKomm vorbei\, lerne das Hofgut und seine Umgebung kennen und verbringe einen\nentspannten\, erlebnisreichen Tag bei uns!\n Zur Veranstaltung
URL:https://kalender.landesgartenschau-oberhessen.de/event/tag-der-offenen-stalltuer-haubenmuehle/
LOCATION:Heimatmuseum Nidda\, Raun 1/Markt 1\, 63667 Nidda
CATEGORIES:Nidda
END:VEVENT
BEGIN:VEVENT
DTSTART;TZID=Europe/Berlin:20260430T120000
DTEND;TZID=Europe/Berlin:20260430T120000
DTSTAMP:20260421T113249
CREATED:20260420T141803Z
LAST-MODIFIED:20260420T141803Z
UID:10002796-1777550400-1777550400@kalender.landesgartenschau-oberhessen.de
SUMMARY:Eltern-Kind-Kreis \,\,Schäfchentreff “ Nidda-Ulfa
DESCRIPTION:Eltern-Kind-Kreis „Schäfchentreff“ in Nidda-Ulfa\nEingeladen sind alle Eltern mit Babys und Kleinkindern bis zum\nKindergarteneintritt.\nBei unserem „Schäfchentreff“ singen wir miteinander\, spielen\, entdecken Gott und\ndie Welt und stärken uns mit einem gemeinsamen Frühstück.\nDabei begleitet uns das Konzept „Von Anfang an“ und das kleine Schäfchen\n“Pauli“.\nEinmal im Monat gibt es einen „Auftankmorgen“ – die Mütterpause\,\nmit Inputs und Diskussionen zu Alltagsthemen aus Familie und Erziehung.\nAnmeldung erforderlich unter Tel. 06043-405134 bei Katja Sang.\nVeranstalter: Ev. Gemeinschaft Ulfa e.V        www.eg-ulfa.de\n Zur Veranstaltung
URL:https://kalender.landesgartenschau-oberhessen.de/event/eltern-kind-kreis-schaefchentreff-nidda-ulfa-2/
LOCATION:Heimatmuseum Nidda\, Raun 1/Markt 1\, 63667 Nidda
CATEGORIES:Nidda
END:VEVENT
BEGIN:VEVENT
DTSTART;TZID=Europe/Berlin:20260503T160000
DTEND;TZID=Europe/Berlin:20260503T160000
DTSTAMP:20260421T113249
CREATED:20260420T141804Z
LAST-MODIFIED:20260420T141804Z
UID:10002805-1777824000-1777824000@kalender.landesgartenschau-oberhessen.de
SUMMARY:Führung durch den Skulpturenpark
DESCRIPTION:Ein sehenswerter Rundgang entlang der Skulpturen im Oberen Kurpark wird vom\nVerein Kunst:Projekt e.V. Nidda – Bad Salzhausen regelmäßig angeboten. Die\nKunstwerke werden kompetent\, ansprechend und zu Fragen einladend vorgestellt. Im\nFokus stehen auch die seit August neuen Exponate auf dem Gelände. \nTreffpunkt: am Parksaal\, Im Park\, 63667 Nidda – Bad Salzhausen\nTeilnehmerzahl: ab 5 Personen\nKosten: 7\,00 € pro Person (6\,00 € mit Kurkarte)\nAnmeldung: nicht erforderlich (Gruppen auf Anfrage)\nKontakt: Matthias Weidmann\, Tel. 06043 801762\n Zur Veranstaltung
URL:https://kalender.landesgartenschau-oberhessen.de/event/fuehrung-durch-den-skulpturenpark-6/
LOCATION:Heimatmuseum Nidda\, Raun 1/Markt 1\, 63667 Nidda
CATEGORIES:Nidda
END:VEVENT
BEGIN:VEVENT
DTSTART;TZID=Europe/Berlin:20260517T120000
DTEND;TZID=Europe/Berlin:20260517T120000
DTSTAMP:20260421T113249
CREATED:20260420T141812Z
LAST-MODIFIED:20260420T141812Z
UID:10002842-1779019200-1779019200@kalender.landesgartenschau-oberhessen.de
SUMMARY:Radtour Lost Places
DESCRIPTION:Eine Tour zur Salzgewinnungskunst\, über den 2.Weltkriegs-Flugplatz\, zum\njüdischen Friedhof\, Wüstungen\, bis hin zu geschichtsträchtigen Wehren und\nMühlen.\nDauer: ca. 4\,5 Stunden\nStrecke: ca. 30 km\nKostenbeitrag: 7 Euro/Person 3 Euro/Kind.\nAnmeldung: Sharon Rieck\, Tel. 0175 5241350 oder Mail: riecksharon@yahoo.de.\nTreffpunkt: Kohden\, Hoherodskopfstraße 2\n Zur Veranstaltung
URL:https://kalender.landesgartenschau-oberhessen.de/event/radtour-lost-places/
LOCATION:Heimatmuseum Nidda\, Raun 1/Markt 1\, 63667 Nidda
CATEGORIES:Nidda
END:VEVENT
END:VCALENDAR