BEGIN:VCALENDAR
VERSION:2.0
PRODID:-//Eventkalender Oberhessen - ECPv6.15.20//NONSGML v1.0//EN
CALSCALE:GREGORIAN
METHOD:PUBLISH
X-ORIGINAL-URL:https://kalender.landesgartenschau-oberhessen.de
X-WR-CALDESC:Veranstaltungen für Eventkalender Oberhessen
REFRESH-INTERVAL;VALUE=DURATION:PT1H
X-Robots-Tag:noindex
X-PUBLISHED-TTL:PT1H
BEGIN:VTIMEZONE
TZID:Europe/Berlin
BEGIN:DAYLIGHT
TZOFFSETFROM:+0100
TZOFFSETTO:+0200
TZNAME:CEST
DTSTART:20250330T010000
END:DAYLIGHT
BEGIN:STANDARD
TZOFFSETFROM:+0200
TZOFFSETTO:+0100
TZNAME:CET
DTSTART:20251026T010000
END:STANDARD
BEGIN:DAYLIGHT
TZOFFSETFROM:+0100
TZOFFSETTO:+0200
TZNAME:CEST
DTSTART:20260329T010000
END:DAYLIGHT
BEGIN:STANDARD
TZOFFSETFROM:+0200
TZOFFSETTO:+0100
TZNAME:CET
DTSTART:20261025T010000
END:STANDARD
BEGIN:DAYLIGHT
TZOFFSETFROM:+0100
TZOFFSETTO:+0200
TZNAME:CEST
DTSTART:20270328T010000
END:DAYLIGHT
BEGIN:STANDARD
TZOFFSETFROM:+0200
TZOFFSETTO:+0100
TZNAME:CET
DTSTART:20271031T010000
END:STANDARD
END:VTIMEZONE
BEGIN:VEVENT
DTSTART;TZID=Europe/Berlin:20260503T173000
DTEND;TZID=Europe/Berlin:20260503T173000
DTSTAMP:20260421T233037
CREATED:20260420T141805Z
LAST-MODIFIED:20260420T141805Z
UID:10002807-1777829400-1777829400@kalender.landesgartenschau-oberhessen.de
SUMMARY:Kurkonzert mit dem Duo Bravo
DESCRIPTION:Iryna Varady (Pianistin) und Robert Varady (Geiger)\nim Foyer der Klinik Rabenstein\nDer Eintritt ist frei!\n Zur Veranstaltung
URL:https://kalender.landesgartenschau-oberhessen.de/event/kurkonzert-mit-dem-duo-bravo-10/
LOCATION:Gemeinderaum Familienzentrum Wallernhausen
CATEGORIES:Nidda
END:VEVENT
BEGIN:VEVENT
DTSTART;TZID=Europe/Berlin:20260601T173000
DTEND;TZID=Europe/Berlin:20260601T173000
DTSTAMP:20260421T233037
CREATED:20260420T141817Z
LAST-MODIFIED:20260420T141817Z
UID:10002869-1780335000-1780335000@kalender.landesgartenschau-oberhessen.de
SUMMARY:(Groß) - Elterncafé mit Kindern
DESCRIPTION:Offenes Treffen von Familien zum Cafebesuch:\nwo Kinder ungestört spielen können\nEltern sich austauschen können\nAlle miteinander spielen können\n Zur Veranstaltung
URL:https://kalender.landesgartenschau-oberhessen.de/event/gross-elterncafe-mit-kindern-6/
LOCATION:Gemeinderaum Familienzentrum Wallernhausen
CATEGORIES:Nidda
END:VEVENT
BEGIN:VEVENT
DTSTART;TZID=Europe/Berlin:20260615T160000
DTEND;TZID=Europe/Berlin:20260615T160000
DTSTAMP:20260421T233037
CREATED:20260420T141820Z
LAST-MODIFIED:20260420T141820Z
UID:10002887-1781539200-1781539200@kalender.landesgartenschau-oberhessen.de
SUMMARY:Gespräche in Bewegung Nidda
DESCRIPTION:\,\,gehen\, reden\, schweigen\, nachdenken“\n Zur Veranstaltung
URL:https://kalender.landesgartenschau-oberhessen.de/event/gespraeche-in-bewegung-nidda-2/
LOCATION:Gemeinderaum Familienzentrum Wallernhausen
CATEGORIES:Nidda
END:VEVENT
END:VCALENDAR