BEGIN:VCALENDAR
VERSION:2.0
PRODID:-//Eventkalender Oberhessen - ECPv6.15.20//NONSGML v1.0//EN
CALSCALE:GREGORIAN
METHOD:PUBLISH
X-ORIGINAL-URL:https://kalender.landesgartenschau-oberhessen.de
X-WR-CALDESC:Veranstaltungen für Eventkalender Oberhessen
REFRESH-INTERVAL;VALUE=DURATION:PT1H
X-Robots-Tag:noindex
X-PUBLISHED-TTL:PT1H
BEGIN:VTIMEZONE
TZID:Europe/Berlin
BEGIN:DAYLIGHT
TZOFFSETFROM:+0100
TZOFFSETTO:+0200
TZNAME:CEST
DTSTART:20250330T010000
END:DAYLIGHT
BEGIN:STANDARD
TZOFFSETFROM:+0200
TZOFFSETTO:+0100
TZNAME:CET
DTSTART:20251026T010000
END:STANDARD
BEGIN:DAYLIGHT
TZOFFSETFROM:+0100
TZOFFSETTO:+0200
TZNAME:CEST
DTSTART:20260329T010000
END:DAYLIGHT
BEGIN:STANDARD
TZOFFSETFROM:+0200
TZOFFSETTO:+0100
TZNAME:CET
DTSTART:20261025T010000
END:STANDARD
BEGIN:DAYLIGHT
TZOFFSETFROM:+0100
TZOFFSETTO:+0200
TZNAME:CEST
DTSTART:20270328T010000
END:DAYLIGHT
BEGIN:STANDARD
TZOFFSETFROM:+0200
TZOFFSETTO:+0100
TZNAME:CET
DTSTART:20271031T010000
END:STANDARD
END:VTIMEZONE
BEGIN:VEVENT
DTSTART;TZID=Europe/Berlin:20260427T200000
DTEND;TZID=Europe/Berlin:20260427T200000
DTSTAMP:20260421T111042
CREATED:20260420T141802Z
LAST-MODIFIED:20260420T141802Z
UID:10002792-1777320000-1777320000@kalender.landesgartenschau-oberhessen.de
SUMMARY:ReparierBar
DESCRIPTION: \n Zur Veranstaltung
URL:https://kalender.landesgartenschau-oberhessen.de/event/reparierbar-9/
LOCATION:Gemeinderaum des Familienzentrum Wallernhausens
CATEGORIES:Nidda
END:VEVENT
BEGIN:VEVENT
DTSTART;TZID=Europe/Berlin:20260511T173000
DTEND;TZID=Europe/Berlin:20260511T173000
DTSTAMP:20260421T111042
CREATED:20260420T141809Z
LAST-MODIFIED:20260420T141809Z
UID:10002827-1778520600-1778520600@kalender.landesgartenschau-oberhessen.de
SUMMARY:(Groß) - Elterncafé mit Kindern
DESCRIPTION:Offenes Treffen von Familien zum Cafebesuch:\nwo Kinder ungestört spielen können\nEltern sich austauschen können\nAlle miteinander spielen können\n Zur Veranstaltung
URL:https://kalender.landesgartenschau-oberhessen.de/event/gross-elterncafe-mit-kindern-5/
LOCATION:Gemeinderaum des Familienzentrum Wallernhausens
CATEGORIES:Nidda
END:VEVENT
BEGIN:VEVENT
DTSTART;TZID=Europe/Berlin:20260525T173000
DTEND;TZID=Europe/Berlin:20260525T173000
DTSTAMP:20260421T111042
CREATED:20260420T141815Z
LAST-MODIFIED:20260420T141815Z
UID:10002857-1779730200-1779730200@kalender.landesgartenschau-oberhessen.de
SUMMARY:Kurkonzert mit Anja & Harald
DESCRIPTION:am Pfingstmontag im Foyer der Klinik Rabenstein\nDer Eintritt ist frei!\n Zur Veranstaltung
URL:https://kalender.landesgartenschau-oberhessen.de/event/kurkonzert-mit-anja-harald-4/
LOCATION:Gemeinderaum des Familienzentrum Wallernhausens
CATEGORIES:Nidda
END:VEVENT
BEGIN:VEVENT
DTSTART;TZID=Europe/Berlin:20260607T120000
DTEND;TZID=Europe/Berlin:20260607T120000
DTSTAMP:20260421T111042
CREATED:20260420T141819Z
LAST-MODIFIED:20260420T141819Z
UID:10002877-1780833600-1780833600@kalender.landesgartenschau-oberhessen.de
SUMMARY:Bauernmarkt
DESCRIPTION:Bitte Terminänderungen beachten!\nIm wunderschönen Ambiente des Kurparks bieten Direktvermarkter wieder ihre Waren\nund Spezialitäten an. Regional – frisch – einzigartig.\nDie Stände sind bei der Bevölkerung sehr beliebt\, weil sie weitestgehend\nProdukte aufweisen\, die in Familienbetrieben hergestellt werden. Bei einem\ngemütlichen Gang durch den schönen Kurpark hat man als Besucher auch die\nGelegenheit\, viele wohlschmeckende Angebote vor Ort verköstigen zu können\, von\nKaffeespezialitäten angefangen über Bratwürstchen zum selbst gebackenen Brot.\n Zur Veranstaltung
URL:https://kalender.landesgartenschau-oberhessen.de/event/bauernmarkt-7/
LOCATION:Gemeinderaum des Familienzentrum Wallernhausens
CATEGORIES:Nidda
END:VEVENT
BEGIN:VEVENT
DTSTART;TZID=Europe/Berlin:20260621T160000
DTEND;TZID=Europe/Berlin:20260621T160000
DTSTAMP:20260421T111042
CREATED:20260420T141824Z
LAST-MODIFIED:20260420T141824Z
UID:10002908-1782057600-1782057600@kalender.landesgartenschau-oberhessen.de
SUMMARY:Führung - 1200 Jahre Niddaer Geschichte
DESCRIPTION:Kirchen\, Kriege\, Grafschaften\, Bier und Amtsstadt. Urkundlich wird Nidda\nzwischen 802-817 erstmals erwähnt als Nitaha im Codex der Abtei Fulda. Sharon\nRieck nimmt Sie mit auf eine Führung durch Niddas interessante Stadtgeschichte.\nDauer: ca. 2 Stunden\nKostenbeitrag: 7 Euro/Person\, 5 Euro/Kind unter 12 Jahren.\nAnmeldung: Sharon Rieck\, Tel. 0175 5241350 oder Mail: riecksharon@yahoo.de.\n Zur Veranstaltung
URL:https://kalender.landesgartenschau-oberhessen.de/event/fuehrung-1200-jahre-niddaer-geschichte/
LOCATION:Gemeinderaum des Familienzentrum Wallernhausens
CATEGORIES:Nidda
END:VEVENT
END:VCALENDAR