BEGIN:VCALENDAR
VERSION:2.0
PRODID:-//Eventkalender Oberhessen - ECPv6.15.20//NONSGML v1.0//EN
CALSCALE:GREGORIAN
METHOD:PUBLISH
X-WR-CALNAME:Eventkalender Oberhessen
X-ORIGINAL-URL:https://kalender.landesgartenschau-oberhessen.de
X-WR-CALDESC:Veranstaltungen für Eventkalender Oberhessen
REFRESH-INTERVAL;VALUE=DURATION:PT1H
X-Robots-Tag:noindex
X-PUBLISHED-TTL:PT1H
BEGIN:VTIMEZONE
TZID:Europe/Berlin
BEGIN:DAYLIGHT
TZOFFSETFROM:+0100
TZOFFSETTO:+0200
TZNAME:CEST
DTSTART:20250330T010000
END:DAYLIGHT
BEGIN:STANDARD
TZOFFSETFROM:+0200
TZOFFSETTO:+0100
TZNAME:CET
DTSTART:20251026T010000
END:STANDARD
BEGIN:DAYLIGHT
TZOFFSETFROM:+0100
TZOFFSETTO:+0200
TZNAME:CEST
DTSTART:20260329T010000
END:DAYLIGHT
BEGIN:STANDARD
TZOFFSETFROM:+0200
TZOFFSETTO:+0100
TZNAME:CET
DTSTART:20261025T010000
END:STANDARD
BEGIN:DAYLIGHT
TZOFFSETFROM:+0100
TZOFFSETTO:+0200
TZNAME:CEST
DTSTART:20270328T010000
END:DAYLIGHT
BEGIN:STANDARD
TZOFFSETFROM:+0200
TZOFFSETTO:+0100
TZNAME:CET
DTSTART:20271031T010000
END:STANDARD
END:VTIMEZONE
BEGIN:VEVENT
DTSTART;TZID=Europe/Berlin:20260607T160000
DTEND;TZID=Europe/Berlin:20260607T160000
DTSTAMP:20260422T000701
CREATED:20260420T141819Z
LAST-MODIFIED:20260420T141819Z
UID:10002878-1780848000-1780848000@kalender.landesgartenschau-oberhessen.de
SUMMARY:Führung durch den Skulpturenpark
DESCRIPTION:Ein sehenswerter Rundgang entlang der Skulpturen im Oberen Kurpark wird vom\nVerein Kunst:Projekt e.V. Nidda – Bad Salzhausen regelmäßig angeboten. Die\nKunstwerke werden kompetent\, ansprechend und zu Fragen einladend vorgestellt. Im\nFokus stehen auch die seit August neuen Exponate auf dem Gelände. \nTreffpunkt: am Parksaal\, Im Park\, 63667 Nidda – Bad Salzhausen\nTeilnehmerzahl: ab 5 Personen\nKosten: 7\,00 € pro Person (6\,00 € mit Kurkarte)\nAnmeldung: nicht erforderlich (Gruppen auf Anfrage)\nKontakt: Matthias Weidmann\, Tel. 06043 801762\n Zur Veranstaltung
URL:https://kalender.landesgartenschau-oberhessen.de/event/fuehrung-durch-den-skulpturenpark-7/
LOCATION:Festplatz Ober-Lais
CATEGORIES:Nidda
END:VEVENT
END:VCALENDAR