BEGIN:VCALENDAR
VERSION:2.0
PRODID:-//Eventkalender Oberhessen - ECPv6.15.20//NONSGML v1.0//EN
CALSCALE:GREGORIAN
METHOD:PUBLISH
X-ORIGINAL-URL:https://kalender.landesgartenschau-oberhessen.de
X-WR-CALDESC:Veranstaltungen für Eventkalender Oberhessen
REFRESH-INTERVAL;VALUE=DURATION:PT1H
X-Robots-Tag:noindex
X-PUBLISHED-TTL:PT1H
BEGIN:VTIMEZONE
TZID:Europe/Berlin
BEGIN:DAYLIGHT
TZOFFSETFROM:+0100
TZOFFSETTO:+0200
TZNAME:CEST
DTSTART:20250330T010000
END:DAYLIGHT
BEGIN:STANDARD
TZOFFSETFROM:+0200
TZOFFSETTO:+0100
TZNAME:CET
DTSTART:20251026T010000
END:STANDARD
BEGIN:DAYLIGHT
TZOFFSETFROM:+0100
TZOFFSETTO:+0200
TZNAME:CEST
DTSTART:20260329T010000
END:DAYLIGHT
BEGIN:STANDARD
TZOFFSETFROM:+0200
TZOFFSETTO:+0100
TZNAME:CET
DTSTART:20261025T010000
END:STANDARD
BEGIN:DAYLIGHT
TZOFFSETFROM:+0100
TZOFFSETTO:+0200
TZNAME:CEST
DTSTART:20270328T010000
END:DAYLIGHT
BEGIN:STANDARD
TZOFFSETFROM:+0200
TZOFFSETTO:+0100
TZNAME:CET
DTSTART:20271031T010000
END:STANDARD
END:VTIMEZONE
BEGIN:VEVENT
DTSTART;TZID=Europe/Berlin:20260422T170000
DTEND;TZID=Europe/Berlin:20260422T170000
DTSTAMP:20260421T113436
CREATED:20260420T141758Z
LAST-MODIFIED:20260420T141758Z
UID:10002772-1776877200-1776877200@kalender.landesgartenschau-oberhessen.de
SUMMARY:Nähtreff in der Stadtbibliothek
DESCRIPTION:25.02.2026 Leseknochen\n25.03.2026 Patchwork Mug Rug\n22.04.2026 Stoffbeutel aus Resten\n27.05.2026 Tischlaternen\n24.06.2026 Boxy Bag\nNähtreff für Erwachsene jeweils von 15 – 17 Uhr \nmax. 5 Teilnehmer\nUnkostenbeitrag: 5 Euro\nAnmeldung unbedingt erforderlich unter: Tel. 06043 1040\nSie benötigen: Nähmaschine\, Stoff\, Stecknadeln\, Schere\n Zur Veranstaltung
URL:https://kalender.landesgartenschau-oberhessen.de/event/naehtreff-in-der-stadtbibliothek-6/
LOCATION:Ev. Gemeinschaft Ulfa e.V\, 63667 Nidda-Ulfa
CATEGORIES:Nidda
END:VEVENT
BEGIN:VEVENT
DTSTART;TZID=Europe/Berlin:20260429T183000
DTEND;TZID=Europe/Berlin:20260429T183000
DTSTAMP:20260421T113436
CREATED:20260420T141802Z
LAST-MODIFIED:20260420T141802Z
UID:10002795-1777487400-1777487400@kalender.landesgartenschau-oberhessen.de
SUMMARY:Musikalische Früherziehung für Kinder von 3-7 Jahren
DESCRIPTION:Mein Angebot für Euch: 29.04./13.05./20.05. & 27.05.2026\nMittwochs von 16.30 – 17.30 Uhr gesamt 32 Euro.\nBitte anmelden!\n Zur Veranstaltung
URL:https://kalender.landesgartenschau-oberhessen.de/event/musikalische-frueherziehung-fuer-kinder-von-3-7-jahren/
LOCATION:Ev. Gemeinschaft Ulfa e.V\, 63667 Nidda-Ulfa
CATEGORIES:Nidda
END:VEVENT
BEGIN:VEVENT
DTSTART;TZID=Europe/Berlin:20260505T110000
DTEND;TZID=Europe/Berlin:20260505T110000
DTSTAMP:20260421T113436
CREATED:20260420T141805Z
LAST-MODIFIED:20260420T141805Z
UID:10002808-1777978800-1777978800@kalender.landesgartenschau-oberhessen.de
SUMMARY:Eltern - Kind Oase 2026
DESCRIPTION:Gruppe 2\nWer: Kinder von 0 – 2 Jahren\nWo: im Gemeinderaum des Familienzentrums in Wallernhausen\nWann: alle 14 Tage an einem Dienstag von 9.00 – 11.00 Uhr\nWas: Lieder\, Fingerspiele\, ein gemeinsames Frühstück\, Freispiel und es soll Raum\nsein für einen gemeinsamen Austausch\n Zur Veranstaltung
URL:https://kalender.landesgartenschau-oberhessen.de/event/eltern-kind-oase-2026-3/
LOCATION:Ev. Gemeinschaft Ulfa e.V\, 63667 Nidda-Ulfa
CATEGORIES:Nidda
END:VEVENT
BEGIN:VEVENT
DTSTART;TZID=Europe/Berlin:20260514T110000
DTEND;TZID=Europe/Berlin:20260514T110000
DTSTAMP:20260421T113436
CREATED:20260420T141810Z
LAST-MODIFIED:20260420T141810Z
UID:10002832-1778756400-1778756400@kalender.landesgartenschau-oberhessen.de
SUMMARY:Vogel- und Bienenkirb (Himmelfahrt) Fauerbach
DESCRIPTION:Zur Veranstaltung
URL:https://kalender.landesgartenschau-oberhessen.de/event/vogel-und-bienenkirb-himmelfahrt-fauerbach-2/
LOCATION:Ev. Gemeinschaft Ulfa e.V\, 63667 Nidda-Ulfa
CATEGORIES:Nidda
END:VEVENT
BEGIN:VEVENT
DTSTART;TZID=Europe/Berlin:20260519T200000
DTEND;TZID=Europe/Berlin:20260519T200000
DTSTAMP:20260421T113436
CREATED:20260420T141813Z
LAST-MODIFIED:20260420T141813Z
UID:10002847-1779220800-1779220800@kalender.landesgartenschau-oberhessen.de
SUMMARY:Intuitives Bogenschießen
DESCRIPTION:After Work Bogenschießen. Pädagogisch geführtes Bogenschießen mit Recurve-Bögen\nauf stationären Zielscheiben (Distanz ca. 10-12 m) vermittelt Fokus\,\nPersönlichkeitsstärke und innere Balance in der Natur. Dauer: 1\,5 Stunden. \nTreffpunkt: Am Schäferteich\, Oberer Kurpark Bad Salzhausen\nKostenbeitrag: 15 Euro/Person \nAnmeldung: Stefanie Merkl\, Tel. 0156 797 080 51 oder Mail:\ninfo@wildewaldlinge.de. \n Zur Veranstaltung
URL:https://kalender.landesgartenschau-oberhessen.de/event/intuitives-bogenschiessen-9/
LOCATION:Ev. Gemeinschaft Ulfa e.V\, 63667 Nidda-Ulfa
CATEGORIES:Nidda
END:VEVENT
BEGIN:VEVENT
DTSTART;TZID=Europe/Berlin:20260526T110000
DTEND;TZID=Europe/Berlin:20260526T110000
DTSTAMP:20260421T113436
CREATED:20260420T141815Z
LAST-MODIFIED:20260420T141815Z
UID:10002859-1779793200-1779793200@kalender.landesgartenschau-oberhessen.de
SUMMARY:Eltern - Kind Oase 2026
DESCRIPTION:Gruppe 1\nWer: Kinder von 0 – 2 Jahren\nWo: im Gemeinderaum des Familienzentrums in Wallernhausen\nWann: alle 14 Tage an einem Dienstag von 9.00 – 11.00 Uhr\nWas: Lieder\, Fingerspiele\, ein gemeinsames Frühstück\, Freispiel und es soll Raum\nsein für einen gemeinsamen Austausch\n Zur Veranstaltung
URL:https://kalender.landesgartenschau-oberhessen.de/event/eltern-kind-oase-2026-5/
LOCATION:Ev. Gemeinschaft Ulfa e.V\, 63667 Nidda-Ulfa
CATEGORIES:Nidda
END:VEVENT
BEGIN:VEVENT
DTSTART;TZID=Europe/Berlin:20260601T200000
DTEND;TZID=Europe/Berlin:20260601T200000
DTSTAMP:20260421T113436
CREATED:20260420T141817Z
LAST-MODIFIED:20260420T141817Z
UID:10002870-1780344000-1780344000@kalender.landesgartenschau-oberhessen.de
SUMMARY:ReparierBar
DESCRIPTION: \n Zur Veranstaltung
URL:https://kalender.landesgartenschau-oberhessen.de/event/reparierbar-10/
LOCATION:Ev. Gemeinschaft Ulfa e.V\, 63667 Nidda-Ulfa
CATEGORIES:Nidda
END:VEVENT
BEGIN:VEVENT
DTSTART;TZID=Europe/Berlin:20260607T173000
DTEND;TZID=Europe/Berlin:20260607T173000
DTSTAMP:20260421T113436
CREATED:20260420T141819Z
LAST-MODIFIED:20260420T141819Z
UID:10002879-1780853400-1780853400@kalender.landesgartenschau-oberhessen.de
SUMMARY:Kurkonzert mit dem Duo Bravo
DESCRIPTION:Iryna Varady (Pianistin) und Robert Varady (Geiger)\nin der Evangelischen Kirche in Bad Salzhausen\nDer Eintritt ist frei!\n Zur Veranstaltung
URL:https://kalender.landesgartenschau-oberhessen.de/event/kurkonzert-mit-dem-duo-bravo-14/
LOCATION:Ev. Gemeinschaft Ulfa e.V\, 63667 Nidda-Ulfa
CATEGORIES:Nidda
END:VEVENT
BEGIN:VEVENT
DTSTART;TZID=Europe/Berlin:20260615T173000
DTEND;TZID=Europe/Berlin:20260615T173000
DTSTAMP:20260421T113436
CREATED:20260420T141821Z
LAST-MODIFIED:20260420T141821Z
UID:10002889-1781544600-1781544600@kalender.landesgartenschau-oberhessen.de
SUMMARY:(Groß) - Elterncafé mit Kindern
DESCRIPTION:Offenes Treffen von Familien zum Cafebesuch:\nwo Kinder ungestört spielen können\nEltern sich austauschen können\nAlle miteinander spielen können\n Zur Veranstaltung
URL:https://kalender.landesgartenschau-oberhessen.de/event/gross-elterncafe-mit-kindern-7/
LOCATION:Ev. Gemeinschaft Ulfa e.V\, 63667 Nidda-Ulfa
CATEGORIES:Nidda
END:VEVENT
BEGIN:VEVENT
DTSTART;TZID=Europe/Berlin:20260624T170000
DTEND;TZID=Europe/Berlin:20260624T170000
DTSTAMP:20260421T113436
CREATED:20260420T141825Z
LAST-MODIFIED:20260420T141825Z
UID:10002914-1782320400-1782320400@kalender.landesgartenschau-oberhessen.de
SUMMARY:Nähtreff in der Stadtbibliothek
DESCRIPTION:25.02.2026 Leseknochen\n25.03.2026 Patchwork Mug Rug\n22.04.2026 Stoffbeutel aus Resten\n27.05.2026 Tischlaternen\n24.06.2026 Boxy Bag\nNähtreff für Erwachsene jeweils von 15 – 17 Uhr \nmax. 5 Teilnehmer\nUnkostenbeitrag: 5 Euro\nAnmeldung unbedingt erforderlich unter: Tel. 06043 1040\nSie benötigen: Nähmaschine\, Stoff\, Stecknadeln\, Schere\n Zur Veranstaltung
URL:https://kalender.landesgartenschau-oberhessen.de/event/naehtreff-in-der-stadtbibliothek-8/
LOCATION:Ev. Gemeinschaft Ulfa e.V\, 63667 Nidda-Ulfa
CATEGORIES:Nidda
END:VEVENT
END:VCALENDAR