BEGIN:VCALENDAR
VERSION:2.0
PRODID:-//Eventkalender Oberhessen - ECPv6.15.20//NONSGML v1.0//EN
CALSCALE:GREGORIAN
METHOD:PUBLISH
X-ORIGINAL-URL:https://kalender.landesgartenschau-oberhessen.de
X-WR-CALDESC:Veranstaltungen für Eventkalender Oberhessen
REFRESH-INTERVAL;VALUE=DURATION:PT1H
X-Robots-Tag:noindex
X-PUBLISHED-TTL:PT1H
BEGIN:VTIMEZONE
TZID:Europe/Berlin
BEGIN:DAYLIGHT
TZOFFSETFROM:+0100
TZOFFSETTO:+0200
TZNAME:CEST
DTSTART:20250330T010000
END:DAYLIGHT
BEGIN:STANDARD
TZOFFSETFROM:+0200
TZOFFSETTO:+0100
TZNAME:CET
DTSTART:20251026T010000
END:STANDARD
BEGIN:DAYLIGHT
TZOFFSETFROM:+0100
TZOFFSETTO:+0200
TZNAME:CEST
DTSTART:20260329T010000
END:DAYLIGHT
BEGIN:STANDARD
TZOFFSETFROM:+0200
TZOFFSETTO:+0100
TZNAME:CET
DTSTART:20261025T010000
END:STANDARD
BEGIN:DAYLIGHT
TZOFFSETFROM:+0100
TZOFFSETTO:+0200
TZNAME:CEST
DTSTART:20270328T010000
END:DAYLIGHT
BEGIN:STANDARD
TZOFFSETFROM:+0200
TZOFFSETTO:+0100
TZNAME:CET
DTSTART:20271031T010000
END:STANDARD
END:VTIMEZONE
BEGIN:VEVENT
DTSTART;TZID=Europe/Berlin:20260510T100000
DTEND;TZID=Europe/Berlin:20260510T130000
DTSTAMP:20260421T073445
CREATED:20260325T223133Z
LAST-MODIFIED:20260325T223133Z
UID:10002666-1778407200-1778418000@kalender.landesgartenschau-oberhessen.de
SUMMARY:Pflanzentauschbörse
DESCRIPTION:Sie können Ihre Garten-\, Gemüse- und Zimmerpflanzen tauschen. Wer nichts mitbringen kann\, aber etwas mitnehmen möchte: Dafür gibt es eine Spendenbox. Bitte die Pflanzen eingetopft bringen und möglichst mit Beschriftung zu Namen und Standort. Wir sortieren diese und Sie nehmen mit\, was Ihnen fehlt oder gefällt.
URL:https://kalender.landesgartenschau-oberhessen.de/event/pflanzentauschboerse/
LOCATION:Dorfbrunnen\, Nidderstraße/ Stockheimer Straße\, Effolderbach
END:VEVENT
END:VCALENDAR