BEGIN:VCALENDAR
VERSION:2.0
PRODID:-//Eventkalender Oberhessen - ECPv6.15.20//NONSGML v1.0//EN
CALSCALE:GREGORIAN
METHOD:PUBLISH
X-WR-CALNAME:Eventkalender Oberhessen
X-ORIGINAL-URL:https://kalender.landesgartenschau-oberhessen.de
X-WR-CALDESC:Veranstaltungen für Eventkalender Oberhessen
REFRESH-INTERVAL;VALUE=DURATION:PT1H
X-Robots-Tag:noindex
X-PUBLISHED-TTL:PT1H
BEGIN:VTIMEZONE
TZID:Europe/Berlin
BEGIN:DAYLIGHT
TZOFFSETFROM:+0100
TZOFFSETTO:+0200
TZNAME:CEST
DTSTART:20250330T010000
END:DAYLIGHT
BEGIN:STANDARD
TZOFFSETFROM:+0200
TZOFFSETTO:+0100
TZNAME:CET
DTSTART:20251026T010000
END:STANDARD
BEGIN:DAYLIGHT
TZOFFSETFROM:+0100
TZOFFSETTO:+0200
TZNAME:CEST
DTSTART:20260329T010000
END:DAYLIGHT
BEGIN:STANDARD
TZOFFSETFROM:+0200
TZOFFSETTO:+0100
TZNAME:CET
DTSTART:20261025T010000
END:STANDARD
BEGIN:DAYLIGHT
TZOFFSETFROM:+0100
TZOFFSETTO:+0200
TZNAME:CEST
DTSTART:20270328T010000
END:DAYLIGHT
BEGIN:STANDARD
TZOFFSETFROM:+0200
TZOFFSETTO:+0100
TZNAME:CET
DTSTART:20271031T010000
END:STANDARD
END:VTIMEZONE
BEGIN:VEVENT
DTSTART;TZID=Europe/Berlin:20260430T210000
DTEND;TZID=Europe/Berlin:20260430T210000
DTSTAMP:20260421T153632
CREATED:20260420T141803Z
LAST-MODIFIED:20260420T141803Z
UID:10002798-1777582800-1777582800@kalender.landesgartenschau-oberhessen.de
SUMMARY:Hexenfeuer Ober-Lais
DESCRIPTION:Zur Veranstaltung
URL:https://kalender.landesgartenschau-oberhessen.de/event/hexenfeuer-ober-lais-2/
LOCATION:Bürgerhaus Fauerbach\, 63667 Nidda-Fauerbach
CATEGORIES:Nidda
END:VEVENT
BEGIN:VEVENT
DTSTART;TZID=Europe/Berlin:20260514T103000
DTEND;TZID=Europe/Berlin:20260514T103000
DTSTAMP:20260421T153632
CREATED:20260420T141809Z
LAST-MODIFIED:20260420T141809Z
UID:10002831-1778754600-1778754600@kalender.landesgartenschau-oberhessen.de
SUMMARY:Naturkundliche Wanderung Ober-Lais
DESCRIPTION:Zur Veranstaltung
URL:https://kalender.landesgartenschau-oberhessen.de/event/naturkundliche-wanderung-ober-lais-2/
LOCATION:Bürgerhaus Fauerbach\, 63667 Nidda-Fauerbach
CATEGORIES:Nidda
END:VEVENT
BEGIN:VEVENT
DTSTART;TZID=Europe/Berlin:20260620T173000
DTEND;TZID=Europe/Berlin:20260620T173000
DTSTAMP:20260421T153632
CREATED:20260420T141823Z
LAST-MODIFIED:20260420T141823Z
UID:10002899-1781976600-1781976600@kalender.landesgartenschau-oberhessen.de
SUMMARY:Kurkonzert mit Dolphins und Stars
DESCRIPTION:im Foyer der Klinik Rabenstein\nEintritt frei!\n Zur Veranstaltung
URL:https://kalender.landesgartenschau-oberhessen.de/event/kurkonzert-mit-dolphins-und-stars-3/
LOCATION:Bürgerhaus Fauerbach\, 63667 Nidda-Fauerbach
CATEGORIES:Nidda
END:VEVENT
END:VCALENDAR