BEGIN:VCALENDAR
VERSION:2.0
PRODID:-//Eventkalender Oberhessen - ECPv6.15.20//NONSGML v1.0//EN
CALSCALE:GREGORIAN
METHOD:PUBLISH
X-WR-CALNAME:Eventkalender Oberhessen
X-ORIGINAL-URL:https://kalender.landesgartenschau-oberhessen.de
X-WR-CALDESC:Veranstaltungen für Eventkalender Oberhessen
REFRESH-INTERVAL;VALUE=DURATION:PT1H
X-Robots-Tag:noindex
X-PUBLISHED-TTL:PT1H
BEGIN:VTIMEZONE
TZID:Europe/Berlin
BEGIN:DAYLIGHT
TZOFFSETFROM:+0100
TZOFFSETTO:+0200
TZNAME:CEST
DTSTART:20250330T010000
END:DAYLIGHT
BEGIN:STANDARD
TZOFFSETFROM:+0200
TZOFFSETTO:+0100
TZNAME:CET
DTSTART:20251026T010000
END:STANDARD
BEGIN:DAYLIGHT
TZOFFSETFROM:+0100
TZOFFSETTO:+0200
TZNAME:CEST
DTSTART:20260329T010000
END:DAYLIGHT
BEGIN:STANDARD
TZOFFSETFROM:+0200
TZOFFSETTO:+0100
TZNAME:CET
DTSTART:20261025T010000
END:STANDARD
BEGIN:DAYLIGHT
TZOFFSETFROM:+0100
TZOFFSETTO:+0200
TZNAME:CEST
DTSTART:20270328T010000
END:DAYLIGHT
BEGIN:STANDARD
TZOFFSETFROM:+0200
TZOFFSETTO:+0100
TZNAME:CET
DTSTART:20271031T010000
END:STANDARD
END:VTIMEZONE
BEGIN:VEVENT
DTSTART;TZID=Europe/Berlin:20260614T093000
DTEND;TZID=Europe/Berlin:20260614T140000
DTSTAMP:20260422T053256
CREATED:20260413T033526Z
LAST-MODIFIED:20260421T040319Z
UID:8881-1781429400-1781445600@kalender.landesgartenschau-oberhessen.de
SUMMARY:Zurück zu dir  Naturtag für Regeneration & innere Stabilität
DESCRIPTION:Wenn du merkst\, dass du im Alltag nur noch funktionierst und dir selbst kaum noch begegnest\, ist es Zeit für mehr als eine kurze Pause.
URL:https://kalender.landesgartenschau-oberhessen.de/event/zurueck-zu-dir-naturtag-fuer-regeneration-innere-stabilitaet/
LOCATION:Christinenhof\, Büdingen
CATEGORIES:Büdingen
END:VEVENT
END:VCALENDAR