BEGIN:VCALENDAR
VERSION:2.0
PRODID:-//Eventkalender Oberhessen - ECPv6.15.20//NONSGML v1.0//EN
CALSCALE:GREGORIAN
METHOD:PUBLISH
X-WR-CALNAME:Eventkalender Oberhessen
X-ORIGINAL-URL:https://kalender.landesgartenschau-oberhessen.de
X-WR-CALDESC:Veranstaltungen für Eventkalender Oberhessen
REFRESH-INTERVAL;VALUE=DURATION:PT1H
X-Robots-Tag:noindex
X-PUBLISHED-TTL:PT1H
BEGIN:VTIMEZONE
TZID:Europe/Berlin
BEGIN:DAYLIGHT
TZOFFSETFROM:+0100
TZOFFSETTO:+0200
TZNAME:CEST
DTSTART:20250330T010000
END:DAYLIGHT
BEGIN:STANDARD
TZOFFSETFROM:+0200
TZOFFSETTO:+0100
TZNAME:CET
DTSTART:20251026T010000
END:STANDARD
BEGIN:DAYLIGHT
TZOFFSETFROM:+0100
TZOFFSETTO:+0200
TZNAME:CEST
DTSTART:20260329T010000
END:DAYLIGHT
BEGIN:STANDARD
TZOFFSETFROM:+0200
TZOFFSETTO:+0100
TZNAME:CET
DTSTART:20261025T010000
END:STANDARD
BEGIN:DAYLIGHT
TZOFFSETFROM:+0100
TZOFFSETTO:+0200
TZNAME:CEST
DTSTART:20270328T010000
END:DAYLIGHT
BEGIN:STANDARD
TZOFFSETFROM:+0200
TZOFFSETTO:+0100
TZNAME:CET
DTSTART:20271031T010000
END:STANDARD
END:VTIMEZONE
BEGIN:VEVENT
DTSTART;TZID=Europe/Berlin:20260429T163000
DTEND;TZID=Europe/Berlin:20260429T163000
DTSTAMP:20260421T064000
CREATED:20260420T141802Z
LAST-MODIFIED:20260420T141802Z
UID:9259-1777480200-1777480200@kalender.landesgartenschau-oberhessen.de
SUMMARY:Worte leben lassen - Stadtbibliothek Nidda
DESCRIPTION:Dieses Seminar wendet sich an alle\, die in der Gemeinschaft mit allen\nTeilnehmenden über gelingende Kommunikation nachdenken und sprechen möchten. Im\nMittelpunkt hierbei steht die Kommunikation zwischen den Generationen. Begleitet\nwird dieses Treffen von Sabine Hornig. Sie ist Kommunikationstrainerin und\nMediatorin. Ihr ist ein gutes\, verständliches Miteinander im Gespräch wichtig.\nZur Veranschaulichung werden praktische Beispiele stattfinden. Bei Bedarf wird\nein Blick in die Werkzeug- und Bildungskiste der Kommunikation geworfen.\nGemeinsam arbeiten wir daran\, warum wir uns manchmal nicht und manchmal sehr gut\nverstehen.\n Zur Veranstaltung
URL:https://kalender.landesgartenschau-oberhessen.de/event/worte-leben-lassen-stadtbibliothek-nidda/
LOCATION:Dorftreff Neue Mitte\, Untergasse 18\, 63667 Nidda-Wallernhausen
CATEGORIES:Nidda
END:VEVENT
END:VCALENDAR