BEGIN:VCALENDAR
VERSION:2.0
PRODID:-//Eventkalender Oberhessen - ECPv6.15.20//NONSGML v1.0//EN
CALSCALE:GREGORIAN
METHOD:PUBLISH
X-WR-CALNAME:Eventkalender Oberhessen
X-ORIGINAL-URL:https://kalender.landesgartenschau-oberhessen.de
X-WR-CALDESC:Veranstaltungen für Eventkalender Oberhessen
REFRESH-INTERVAL;VALUE=DURATION:PT1H
X-Robots-Tag:noindex
X-PUBLISHED-TTL:PT1H
BEGIN:VTIMEZONE
TZID:Europe/Berlin
BEGIN:DAYLIGHT
TZOFFSETFROM:+0100
TZOFFSETTO:+0200
TZNAME:CEST
DTSTART:20250330T010000
END:DAYLIGHT
BEGIN:STANDARD
TZOFFSETFROM:+0200
TZOFFSETTO:+0100
TZNAME:CET
DTSTART:20251026T010000
END:STANDARD
BEGIN:DAYLIGHT
TZOFFSETFROM:+0100
TZOFFSETTO:+0200
TZNAME:CEST
DTSTART:20260329T010000
END:DAYLIGHT
BEGIN:STANDARD
TZOFFSETFROM:+0200
TZOFFSETTO:+0100
TZNAME:CET
DTSTART:20261025T010000
END:STANDARD
BEGIN:DAYLIGHT
TZOFFSETFROM:+0100
TZOFFSETTO:+0200
TZNAME:CEST
DTSTART:20270328T010000
END:DAYLIGHT
BEGIN:STANDARD
TZOFFSETFROM:+0200
TZOFFSETTO:+0100
TZNAME:CET
DTSTART:20271031T010000
END:STANDARD
END:VTIMEZONE
BEGIN:VEVENT
DTSTART;TZID=Europe/Berlin:20260621T140000
DTEND;TZID=Europe/Berlin:20260621T140000
DTSTAMP:20260421T193818
CREATED:20260420T141824Z
LAST-MODIFIED:20260420T141824Z
UID:9412-1782050400-1782050400@kalender.landesgartenschau-oberhessen.de
SUMMARY:Pistorius 2026 - 500 Jahre Reformation in Nidda
DESCRIPTION:Pistoriustag\, organisiert vom Gewerbeverein Nidda e.V. mit festlichem\nGottesdienst mit dem Johanniterorden\, anlässlich des Johannestags (24.Juni) mit\nPfarrerin Beate Henke und Pfarrer Reiner Isheim um 15 Uhr sowie einem kleinem\nBühnenprogramm für die ganze Familie.\n Zur Veranstaltung
URL:https://kalender.landesgartenschau-oberhessen.de/event/pistorius-2026-500-jahre-reformation-in-nidda-2/
LOCATION:Ev. Kirche Bad Salzhausen
CATEGORIES:Nidda
END:VEVENT
END:VCALENDAR