BEGIN:VCALENDAR
VERSION:2.0
PRODID:-//Eventkalender Oberhessen - ECPv6.15.20//NONSGML v1.0//EN
CALSCALE:GREGORIAN
METHOD:PUBLISH
X-WR-CALNAME:Eventkalender Oberhessen
X-ORIGINAL-URL:https://kalender.landesgartenschau-oberhessen.de
X-WR-CALDESC:Veranstaltungen für Eventkalender Oberhessen
REFRESH-INTERVAL;VALUE=DURATION:PT1H
X-Robots-Tag:noindex
X-PUBLISHED-TTL:PT1H
BEGIN:VTIMEZONE
TZID:Europe/Berlin
BEGIN:DAYLIGHT
TZOFFSETFROM:+0100
TZOFFSETTO:+0200
TZNAME:CEST
DTSTART:20250330T010000
END:DAYLIGHT
BEGIN:STANDARD
TZOFFSETFROM:+0200
TZOFFSETTO:+0100
TZNAME:CET
DTSTART:20251026T010000
END:STANDARD
BEGIN:DAYLIGHT
TZOFFSETFROM:+0100
TZOFFSETTO:+0200
TZNAME:CEST
DTSTART:20260329T010000
END:DAYLIGHT
BEGIN:STANDARD
TZOFFSETFROM:+0200
TZOFFSETTO:+0100
TZNAME:CET
DTSTART:20261025T010000
END:STANDARD
BEGIN:DAYLIGHT
TZOFFSETFROM:+0100
TZOFFSETTO:+0200
TZNAME:CEST
DTSTART:20270328T010000
END:DAYLIGHT
BEGIN:STANDARD
TZOFFSETFROM:+0200
TZOFFSETTO:+0100
TZNAME:CET
DTSTART:20271031T010000
END:STANDARD
END:VTIMEZONE
BEGIN:VEVENT
DTSTART;TZID=Europe/Berlin:20260422T170000
DTEND;TZID=Europe/Berlin:20260422T170000
DTSTAMP:20260421T064110
CREATED:20260420T141758Z
LAST-MODIFIED:20260420T141758Z
UID:9229-1776877200-1776877200@kalender.landesgartenschau-oberhessen.de
SUMMARY:Nähtreff in der Stadtbibliothek
DESCRIPTION:25.02.2026 Leseknochen\n25.03.2026 Patchwork Mug Rug\n22.04.2026 Stoffbeutel aus Resten\n27.05.2026 Tischlaternen\n24.06.2026 Boxy Bag\nNähtreff für Erwachsene jeweils von 15 – 17 Uhr \nmax. 5 Teilnehmer\nUnkostenbeitrag: 5 Euro\nAnmeldung unbedingt erforderlich unter: Tel. 06043 1040\nSie benötigen: Nähmaschine\, Stoff\, Stecknadeln\, Schere\n Zur Veranstaltung
URL:https://kalender.landesgartenschau-oberhessen.de/event/naehtreff-in-der-stadtbibliothek-6/
LOCATION:Ev. Gemeinschaft Ulfa e.V\, 63667 Nidda-Ulfa
CATEGORIES:Nidda
END:VEVENT
END:VCALENDAR