BEGIN:VCALENDAR
VERSION:2.0
PRODID:-//Eventkalender Oberhessen - ECPv6.15.20//NONSGML v1.0//EN
CALSCALE:GREGORIAN
METHOD:PUBLISH
X-WR-CALNAME:Eventkalender Oberhessen
X-ORIGINAL-URL:https://kalender.landesgartenschau-oberhessen.de
X-WR-CALDESC:Veranstaltungen für Eventkalender Oberhessen
REFRESH-INTERVAL;VALUE=DURATION:PT1H
X-Robots-Tag:noindex
X-PUBLISHED-TTL:PT1H
BEGIN:VTIMEZONE
TZID:Europe/Berlin
BEGIN:DAYLIGHT
TZOFFSETFROM:+0100
TZOFFSETTO:+0200
TZNAME:CEST
DTSTART:20250330T010000
END:DAYLIGHT
BEGIN:STANDARD
TZOFFSETFROM:+0200
TZOFFSETTO:+0100
TZNAME:CET
DTSTART:20251026T010000
END:STANDARD
BEGIN:DAYLIGHT
TZOFFSETFROM:+0100
TZOFFSETTO:+0200
TZNAME:CEST
DTSTART:20260329T010000
END:DAYLIGHT
BEGIN:STANDARD
TZOFFSETFROM:+0200
TZOFFSETTO:+0100
TZNAME:CET
DTSTART:20261025T010000
END:STANDARD
BEGIN:DAYLIGHT
TZOFFSETFROM:+0100
TZOFFSETTO:+0200
TZNAME:CEST
DTSTART:20270328T010000
END:DAYLIGHT
BEGIN:STANDARD
TZOFFSETFROM:+0200
TZOFFSETTO:+0100
TZNAME:CET
DTSTART:20271031T010000
END:STANDARD
END:VTIMEZONE
BEGIN:VEVENT
DTSTART;TZID=Europe/Berlin:20260429T183000
DTEND;TZID=Europe/Berlin:20260429T183000
DTSTAMP:20260421T064940
CREATED:20260420T141802Z
LAST-MODIFIED:20260420T141802Z
UID:9261-1777487400-1777487400@kalender.landesgartenschau-oberhessen.de
SUMMARY:Musikalische Früherziehung für Kinder von 3-7 Jahren
DESCRIPTION:Mein Angebot für Euch: 29.04./13.05./20.05. & 27.05.2026\nMittwochs von 16.30 – 17.30 Uhr gesamt 32 Euro.\nBitte anmelden!\n Zur Veranstaltung
URL:https://kalender.landesgartenschau-oberhessen.de/event/musikalische-frueherziehung-fuer-kinder-von-3-7-jahren/
LOCATION:Ev. Gemeinschaft Ulfa e.V\, 63667 Nidda-Ulfa
CATEGORIES:Nidda
END:VEVENT
END:VCALENDAR