BEGIN:VCALENDAR
VERSION:2.0
PRODID:-//Eventkalender Oberhessen - ECPv6.15.20//NONSGML v1.0//EN
CALSCALE:GREGORIAN
METHOD:PUBLISH
X-WR-CALNAME:Eventkalender Oberhessen
X-ORIGINAL-URL:https://kalender.landesgartenschau-oberhessen.de
X-WR-CALDESC:Veranstaltungen für Eventkalender Oberhessen
REFRESH-INTERVAL;VALUE=DURATION:PT1H
X-Robots-Tag:noindex
X-PUBLISHED-TTL:PT1H
BEGIN:VTIMEZONE
TZID:Europe/Berlin
BEGIN:DAYLIGHT
TZOFFSETFROM:+0100
TZOFFSETTO:+0200
TZNAME:CEST
DTSTART:20250330T010000
END:DAYLIGHT
BEGIN:STANDARD
TZOFFSETFROM:+0200
TZOFFSETTO:+0100
TZNAME:CET
DTSTART:20251026T010000
END:STANDARD
BEGIN:DAYLIGHT
TZOFFSETFROM:+0100
TZOFFSETTO:+0200
TZNAME:CEST
DTSTART:20260329T010000
END:DAYLIGHT
BEGIN:STANDARD
TZOFFSETFROM:+0200
TZOFFSETTO:+0100
TZNAME:CET
DTSTART:20261025T010000
END:STANDARD
BEGIN:DAYLIGHT
TZOFFSETFROM:+0100
TZOFFSETTO:+0200
TZNAME:CEST
DTSTART:20270328T010000
END:DAYLIGHT
BEGIN:STANDARD
TZOFFSETFROM:+0200
TZOFFSETTO:+0100
TZNAME:CET
DTSTART:20271031T010000
END:STANDARD
END:VTIMEZONE
BEGIN:VEVENT
DTSTART;TZID=Europe/Berlin:20260511T170000
DTEND;TZID=Europe/Berlin:20260511T170000
DTSTAMP:20260421T192026
CREATED:20260420T141808Z
LAST-MODIFIED:20260420T141808Z
UID:9304-1778518800-1778518800@kalender.landesgartenschau-oberhessen.de
SUMMARY:Literaturcafé in der Stadtbibliothek
DESCRIPTION:Montag\, 11. Mai 2026\, 15 – 16.30 Uhr\nSchlegl\, Tobias: Leichtes Herz und schwere Beine Tobias Schlegl geht den\nJakobsweg\, zusammen mit seiner 73-jährigen Mutter. Obwohl er kein Wanderfreund\nist\, nimmt er diese Reise auf sich\, um ihr einen lang gehegten Wunsch zu\nerfüllen. Abseits von ihrer Mutterrolle weiß er wenig von ihr. Auf dem Camino\nstellt er Fragen\, die ihm schon lange auf der Zunge liegen\, und lernt sie ganz\nneu kennen.\n Zur Veranstaltung
URL:https://kalender.landesgartenschau-oberhessen.de/event/literaturcafe-in-der-stadtbibliothek-6/
LOCATION:Familienzentrum Dorftreff Neue Mitte in Wallernhausen
CATEGORIES:Nidda
END:VEVENT
END:VCALENDAR