BEGIN:VCALENDAR
VERSION:2.0
PRODID:-//Eventkalender Oberhessen - ECPv6.15.20//NONSGML v1.0//EN
CALSCALE:GREGORIAN
METHOD:PUBLISH
X-WR-CALNAME:Eventkalender Oberhessen
X-ORIGINAL-URL:https://kalender.landesgartenschau-oberhessen.de
X-WR-CALDESC:Veranstaltungen für Eventkalender Oberhessen
REFRESH-INTERVAL;VALUE=DURATION:PT1H
X-Robots-Tag:noindex
X-PUBLISHED-TTL:PT1H
BEGIN:VTIMEZONE
TZID:Europe/Berlin
BEGIN:DAYLIGHT
TZOFFSETFROM:+0100
TZOFFSETTO:+0200
TZNAME:CEST
DTSTART:20250330T010000
END:DAYLIGHT
BEGIN:STANDARD
TZOFFSETFROM:+0200
TZOFFSETTO:+0100
TZNAME:CET
DTSTART:20251026T010000
END:STANDARD
BEGIN:DAYLIGHT
TZOFFSETFROM:+0100
TZOFFSETTO:+0200
TZNAME:CEST
DTSTART:20260329T010000
END:DAYLIGHT
BEGIN:STANDARD
TZOFFSETFROM:+0200
TZOFFSETTO:+0100
TZNAME:CET
DTSTART:20261025T010000
END:STANDARD
BEGIN:DAYLIGHT
TZOFFSETFROM:+0100
TZOFFSETTO:+0200
TZNAME:CEST
DTSTART:20270328T010000
END:DAYLIGHT
BEGIN:STANDARD
TZOFFSETFROM:+0200
TZOFFSETTO:+0100
TZNAME:CET
DTSTART:20271031T010000
END:STANDARD
END:VTIMEZONE
BEGIN:VEVENT
DTSTART;TZID=Europe/Berlin:20260624T170000
DTEND;TZID=Europe/Berlin:20260624T170000
DTSTAMP:20260422T000538
CREATED:20260420T141826Z
LAST-MODIFIED:20260420T141826Z
UID:9420-1782320400-1782320400@kalender.landesgartenschau-oberhessen.de
SUMMARY:Kräuterführung
DESCRIPTION:Bei einem Spaziergang mit Kräuterfrau Tanja Adam kann man erfahren\, welch\nnützliche und wohlschmeckende Kräuter die Natur für uns bereithält. Ebenso\nerfährt man alles Notwendige über deren Dosierung und Anwendung. Dauer: ca. 1\,5\nStunden.\nTreffpunkt: Kur- und Touristik-Info\, Quellenstraße 2\, 63667 Nidda – Bad\nSalzhausen\nTeilnehmerzahl: ab 5 Personen\nKostenbeitrag: 8\,00 € pro Person\nAnmeldung: Kur- und Touristik- Info\, Tel. (06043) 9633-0\n Zur Veranstaltung
URL:https://kalender.landesgartenschau-oberhessen.de/event/kraeuterfuehrung-2/
CATEGORIES:Nidda
END:VEVENT
END:VCALENDAR