BEGIN:VCALENDAR
VERSION:2.0
PRODID:-//Eventkalender Oberhessen - ECPv6.15.20//NONSGML v1.0//EN
CALSCALE:GREGORIAN
METHOD:PUBLISH
X-WR-CALNAME:Eventkalender Oberhessen
X-ORIGINAL-URL:https://kalender.landesgartenschau-oberhessen.de
X-WR-CALDESC:Veranstaltungen für Eventkalender Oberhessen
REFRESH-INTERVAL;VALUE=DURATION:PT1H
X-Robots-Tag:noindex
X-PUBLISHED-TTL:PT1H
BEGIN:VTIMEZONE
TZID:Europe/Berlin
BEGIN:DAYLIGHT
TZOFFSETFROM:+0100
TZOFFSETTO:+0200
TZNAME:CEST
DTSTART:20250330T010000
END:DAYLIGHT
BEGIN:STANDARD
TZOFFSETFROM:+0200
TZOFFSETTO:+0100
TZNAME:CET
DTSTART:20251026T010000
END:STANDARD
BEGIN:DAYLIGHT
TZOFFSETFROM:+0100
TZOFFSETTO:+0200
TZNAME:CEST
DTSTART:20260329T010000
END:DAYLIGHT
BEGIN:STANDARD
TZOFFSETFROM:+0200
TZOFFSETTO:+0100
TZNAME:CET
DTSTART:20261025T010000
END:STANDARD
BEGIN:DAYLIGHT
TZOFFSETFROM:+0100
TZOFFSETTO:+0200
TZNAME:CEST
DTSTART:20270328T010000
END:DAYLIGHT
BEGIN:STANDARD
TZOFFSETFROM:+0200
TZOFFSETTO:+0100
TZNAME:CET
DTSTART:20271031T010000
END:STANDARD
END:VTIMEZONE
BEGIN:VEVENT
DTSTART;TZID=Europe/Berlin:20260520T143000
DTEND;TZID=Europe/Berlin:20260520T160000
DTSTAMP:20260422T005221
CREATED:20260415T034627Z
LAST-MODIFIED:20260421T040306Z
UID:8915-1779287400-1779292800@kalender.landesgartenschau-oberhessen.de
SUMMARY:Gesprächskreis 60 +
DESCRIPTION:Veranstaltungsort:\nStadtbücherei\nEberhard-Bauner-Allee 16\n63654 Büdingen\nTelefon: +49 6042 884-1555\nFax: +49 6042 884-2555\nstadtbuecherei@stadt-buedingen.de\nwww.stadtbuecherei-buedingen.de\nVeranstalter:\nStadtbücherei\nEberhard-Bauner-Allee 16\n63654 Büdingen\nTelefon: +49 6042 884-1555\nFax: +49 6042 884-2555\nstadtbuecherei@stadt-buedingen.de\nwww.stadtbuecherei-buedingen.de\nThema Gestern & Heute
URL:https://kalender.landesgartenschau-oberhessen.de/event/gespraechskreis-60-2/
LOCATION:Stadtbücherei Büdingen\, Eberhard-Bauner-Allee 16\, 63654 Büdingen
CATEGORIES:Büdingen
END:VEVENT
END:VCALENDAR