BEGIN:VCALENDAR
VERSION:2.0
PRODID:-//Eventkalender Oberhessen - ECPv6.15.20//NONSGML v1.0//EN
CALSCALE:GREGORIAN
METHOD:PUBLISH
X-WR-CALNAME:Eventkalender Oberhessen
X-ORIGINAL-URL:https://kalender.landesgartenschau-oberhessen.de
X-WR-CALDESC:Veranstaltungen für Eventkalender Oberhessen
REFRESH-INTERVAL;VALUE=DURATION:PT1H
X-Robots-Tag:noindex
X-PUBLISHED-TTL:PT1H
BEGIN:VTIMEZONE
TZID:Europe/Berlin
BEGIN:DAYLIGHT
TZOFFSETFROM:+0100
TZOFFSETTO:+0200
TZNAME:CEST
DTSTART:20250330T010000
END:DAYLIGHT
BEGIN:STANDARD
TZOFFSETFROM:+0200
TZOFFSETTO:+0100
TZNAME:CET
DTSTART:20251026T010000
END:STANDARD
BEGIN:DAYLIGHT
TZOFFSETFROM:+0100
TZOFFSETTO:+0200
TZNAME:CEST
DTSTART:20260329T010000
END:DAYLIGHT
BEGIN:STANDARD
TZOFFSETFROM:+0200
TZOFFSETTO:+0100
TZNAME:CET
DTSTART:20261025T010000
END:STANDARD
BEGIN:DAYLIGHT
TZOFFSETFROM:+0100
TZOFFSETTO:+0200
TZNAME:CEST
DTSTART:20270328T010000
END:DAYLIGHT
BEGIN:STANDARD
TZOFFSETFROM:+0200
TZOFFSETTO:+0100
TZNAME:CET
DTSTART:20271031T010000
END:STANDARD
END:VTIMEZONE
BEGIN:VEVENT
DTSTART;TZID=Europe/Berlin:20260421T110000
DTEND;TZID=Europe/Berlin:20260421T110000
DTSTAMP:20260421T063446
CREATED:20260420T141757Z
LAST-MODIFIED:20260420T141757Z
UID:9225-1776769200-1776769200@kalender.landesgartenschau-oberhessen.de
SUMMARY:Eltern - Kind Oase 2026
DESCRIPTION:Gruppe 2\nWer: Kinder von 0 – 2 Jahren\nWo: im Gemeinderaum des Familienzentrums in Wallernhausen\nWann: alle 14 Tage an einem Dienstag von 9.00 – 11.00 Uhr\nWas: Lieder\, Fingerspiele\, ein gemeinsames Frühstück\, Freispiel und es soll Raum\nsein für einen gemeinsamen Austausch\n Zur Veranstaltung
URL:https://kalender.landesgartenschau-oberhessen.de/event/eltern-kind-oase-2026/
LOCATION:Auf dem Graben 33 in Nidda
CATEGORIES:Nidda
END:VEVENT
END:VCALENDAR