BEGIN:VCALENDAR
VERSION:2.0
PRODID:-//Eventkalender Oberhessen - ECPv6.15.20//NONSGML v1.0//EN
CALSCALE:GREGORIAN
METHOD:PUBLISH
X-WR-CALNAME:Eventkalender Oberhessen
X-ORIGINAL-URL:https://kalender.landesgartenschau-oberhessen.de
X-WR-CALDESC:Veranstaltungen für Eventkalender Oberhessen
REFRESH-INTERVAL;VALUE=DURATION:PT1H
X-Robots-Tag:noindex
X-PUBLISHED-TTL:PT1H
BEGIN:VTIMEZONE
TZID:Europe/Berlin
BEGIN:DAYLIGHT
TZOFFSETFROM:+0100
TZOFFSETTO:+0200
TZNAME:CEST
DTSTART:20250330T010000
END:DAYLIGHT
BEGIN:STANDARD
TZOFFSETFROM:+0200
TZOFFSETTO:+0100
TZNAME:CET
DTSTART:20251026T010000
END:STANDARD
BEGIN:DAYLIGHT
TZOFFSETFROM:+0100
TZOFFSETTO:+0200
TZNAME:CEST
DTSTART:20260329T010000
END:DAYLIGHT
BEGIN:STANDARD
TZOFFSETFROM:+0200
TZOFFSETTO:+0100
TZNAME:CET
DTSTART:20261025T010000
END:STANDARD
BEGIN:DAYLIGHT
TZOFFSETFROM:+0100
TZOFFSETTO:+0200
TZNAME:CEST
DTSTART:20270328T010000
END:DAYLIGHT
BEGIN:STANDARD
TZOFFSETFROM:+0200
TZOFFSETTO:+0100
TZNAME:CET
DTSTART:20271031T010000
END:STANDARD
END:VTIMEZONE
BEGIN:VEVENT
DTSTART;TZID=Europe/Berlin:20260607T140000
DTEND;TZID=Europe/Berlin:20260607T170000
DTSTAMP:20260422T000111
CREATED:20260410T030201Z
LAST-MODIFIED:20260421T040315Z
UID:8797-1780840800-1780851600@kalender.landesgartenschau-oberhessen.de
SUMMARY:Café Herrnhaag geöffnet
DESCRIPTION:Veranstaltungsort:\nVerein der Freunde des Herrnhaag e.V.\nHerrnhaag 3\n63654 Büdingen\nTelefon: +49 6042 7461\ninfo@herrnhaag.de \nStartseite \n\nVeranstalter:\nVerein der Freunde des Herrnhaag e.V.\nHerrnhaag 3\n63654 Büdingen\nTelefon: +49 6042 7461\ninfo@herrnhaag.de \nStartseite \n\nEinladung ins »Café Herrnhaag«\nAm heutigen Sonntag laden wir Sie herzlich ein auf den Herrnhaag. Ab 14 Uhr erwartet Sie unser Team mit leckerem selbstgemachten Kuchen\, Kaffee\, kleinem Trödel- und Büchermarkt.
URL:https://kalender.landesgartenschau-oberhessen.de/event/cafe-herrnhaag-geoeffnet/
LOCATION:Herrnhaag\, zwischen Lorbach und Diebach
CATEGORIES:Büdingen
END:VEVENT
END:VCALENDAR