BEGIN:VCALENDAR
VERSION:2.0
PRODID:-//Eventkalender Oberhessen - ECPv6.15.20//NONSGML v1.0//EN
CALSCALE:GREGORIAN
METHOD:PUBLISH
X-WR-CALNAME:Eventkalender Oberhessen
X-ORIGINAL-URL:https://kalender.landesgartenschau-oberhessen.de
X-WR-CALDESC:Veranstaltungen für Eventkalender Oberhessen
REFRESH-INTERVAL;VALUE=DURATION:PT1H
X-Robots-Tag:noindex
X-PUBLISHED-TTL:PT1H
BEGIN:VTIMEZONE
TZID:Europe/Berlin
BEGIN:DAYLIGHT
TZOFFSETFROM:+0100
TZOFFSETTO:+0200
TZNAME:CEST
DTSTART:20250330T010000
END:DAYLIGHT
BEGIN:STANDARD
TZOFFSETFROM:+0200
TZOFFSETTO:+0100
TZNAME:CET
DTSTART:20251026T010000
END:STANDARD
BEGIN:DAYLIGHT
TZOFFSETFROM:+0100
TZOFFSETTO:+0200
TZNAME:CEST
DTSTART:20260329T010000
END:DAYLIGHT
BEGIN:STANDARD
TZOFFSETFROM:+0200
TZOFFSETTO:+0100
TZNAME:CET
DTSTART:20261025T010000
END:STANDARD
BEGIN:DAYLIGHT
TZOFFSETFROM:+0100
TZOFFSETTO:+0200
TZNAME:CEST
DTSTART:20270328T010000
END:DAYLIGHT
BEGIN:STANDARD
TZOFFSETFROM:+0200
TZOFFSETTO:+0100
TZNAME:CET
DTSTART:20271031T010000
END:STANDARD
END:VTIMEZONE
BEGIN:VEVENT
DTSTART;TZID=Europe/Berlin:20260425T103000
DTEND;TZID=Europe/Berlin:20260425T103000
DTSTAMP:20260421T064940
CREATED:20260420T141800Z
LAST-MODIFIED:20260420T141800Z
UID:9241-1777113000-1777113000@kalender.landesgartenschau-oberhessen.de
SUMMARY:Besuch der »Reformationsstadt« Homberg/Efze und der »Konfirmationsstadt«\nZiegenhain
DESCRIPTION:Vereinsausflug (Gäste willkommen)\nKosten für Busfahrt\, Eintritt und Führungen:\nVereinsmitglieder 27 €\, Gäste 32 €\nAnmeldung ab 01.03.2026: museum-nidda@t-online.de\n Zur Veranstaltung
URL:https://kalender.landesgartenschau-oberhessen.de/event/besuch-der-reformationsstadt-homberg-efze-und-der-konfirmationsstadtziegenhain/
LOCATION:Außenbereich BGH Geiß-Nidda
CATEGORIES:Nidda
END:VEVENT
END:VCALENDAR