BEGIN:VCALENDAR
VERSION:2.0
PRODID:-//Eventkalender Oberhessen - ECPv6.15.20//NONSGML v1.0//EN
CALSCALE:GREGORIAN
METHOD:PUBLISH
X-WR-CALNAME:Eventkalender Oberhessen
X-ORIGINAL-URL:https://kalender.landesgartenschau-oberhessen.de
X-WR-CALDESC:Veranstaltungen für Eventkalender Oberhessen
REFRESH-INTERVAL;VALUE=DURATION:PT1H
X-Robots-Tag:noindex
X-PUBLISHED-TTL:PT1H
BEGIN:VTIMEZONE
TZID:Europe/Berlin
BEGIN:DAYLIGHT
TZOFFSETFROM:+0100
TZOFFSETTO:+0200
TZNAME:CEST
DTSTART:20250330T010000
END:DAYLIGHT
BEGIN:STANDARD
TZOFFSETFROM:+0200
TZOFFSETTO:+0100
TZNAME:CET
DTSTART:20251026T010000
END:STANDARD
BEGIN:DAYLIGHT
TZOFFSETFROM:+0100
TZOFFSETTO:+0200
TZNAME:CEST
DTSTART:20260329T010000
END:DAYLIGHT
BEGIN:STANDARD
TZOFFSETFROM:+0200
TZOFFSETTO:+0100
TZNAME:CET
DTSTART:20261025T010000
END:STANDARD
BEGIN:DAYLIGHT
TZOFFSETFROM:+0100
TZOFFSETTO:+0200
TZNAME:CEST
DTSTART:20270328T010000
END:DAYLIGHT
BEGIN:STANDARD
TZOFFSETFROM:+0200
TZOFFSETTO:+0100
TZNAME:CET
DTSTART:20271031T010000
END:STANDARD
END:VTIMEZONE
BEGIN:VEVENT
DTSTART;TZID=Europe/Berlin:20260607T120000
DTEND;TZID=Europe/Berlin:20260607T120000
DTSTAMP:20260421T144552
CREATED:20260420T141819Z
LAST-MODIFIED:20260420T141819Z
UID:9374-1780833600-1780833600@kalender.landesgartenschau-oberhessen.de
SUMMARY:Bauernmarkt
DESCRIPTION:Bitte Terminänderungen beachten!\nIm wunderschönen Ambiente des Kurparks bieten Direktvermarkter wieder ihre Waren\nund Spezialitäten an. Regional – frisch – einzigartig.\nDie Stände sind bei der Bevölkerung sehr beliebt\, weil sie weitestgehend\nProdukte aufweisen\, die in Familienbetrieben hergestellt werden. Bei einem\ngemütlichen Gang durch den schönen Kurpark hat man als Besucher auch die\nGelegenheit\, viele wohlschmeckende Angebote vor Ort verköstigen zu können\, von\nKaffeespezialitäten angefangen über Bratwürstchen zum selbst gebackenen Brot.\n Zur Veranstaltung
URL:https://kalender.landesgartenschau-oberhessen.de/event/bauernmarkt-7/
LOCATION:Gemeinderaum des Familienzentrum Wallernhausens
CATEGORIES:Nidda
END:VEVENT
END:VCALENDAR