BEGIN:VCALENDAR
VERSION:2.0
PRODID:-//Eventkalender Oberhessen - ECPv6.15.20//NONSGML v1.0//EN
CALSCALE:GREGORIAN
METHOD:PUBLISH
X-WR-CALNAME:Eventkalender Oberhessen
X-ORIGINAL-URL:https://kalender.landesgartenschau-oberhessen.de
X-WR-CALDESC:Veranstaltungen für Eventkalender Oberhessen
REFRESH-INTERVAL;VALUE=DURATION:PT1H
X-Robots-Tag:noindex
X-PUBLISHED-TTL:PT1H
BEGIN:VTIMEZONE
TZID:Europe/Berlin
BEGIN:DAYLIGHT
TZOFFSETFROM:+0100
TZOFFSETTO:+0200
TZNAME:CEST
DTSTART:20250330T010000
END:DAYLIGHT
BEGIN:STANDARD
TZOFFSETFROM:+0200
TZOFFSETTO:+0100
TZNAME:CET
DTSTART:20251026T010000
END:STANDARD
BEGIN:DAYLIGHT
TZOFFSETFROM:+0100
TZOFFSETTO:+0200
TZNAME:CEST
DTSTART:20260329T010000
END:DAYLIGHT
BEGIN:STANDARD
TZOFFSETFROM:+0200
TZOFFSETTO:+0100
TZNAME:CET
DTSTART:20261025T010000
END:STANDARD
BEGIN:DAYLIGHT
TZOFFSETFROM:+0100
TZOFFSETTO:+0200
TZNAME:CEST
DTSTART:20270328T010000
END:DAYLIGHT
BEGIN:STANDARD
TZOFFSETFROM:+0200
TZOFFSETTO:+0100
TZNAME:CET
DTSTART:20271031T010000
END:STANDARD
END:VTIMEZONE
BEGIN:VEVENT
DTSTART;TZID=Europe/Berlin:20260424T163000
DTEND;TZID=Europe/Berlin:20260424T163000
DTSTAMP:20260421T064110
CREATED:20260420T141759Z
LAST-MODIFIED:20260420T141759Z
UID:9238-1777048200-1777048200@kalender.landesgartenschau-oberhessen.de
SUMMARY:Artenvielfalt in der Streuobstwiese
DESCRIPTION:Zum Internationalen Tag des Streuobstes am 24.04.2026 lädt die NVSG Geiss-Nidda\nzu einer geführten Wanderung durch die örtlichen Streuobstwiesen ein.\n Zur Veranstaltung
URL:https://kalender.landesgartenschau-oberhessen.de/event/artenvielfalt-in-der-streuobstwiese/
LOCATION:Bürgerhaus Ober-Lais\, Michelnauer Str. 14\, 63667 Nidda-Ober-Lais
CATEGORIES:Nidda
END:VEVENT
END:VCALENDAR