BEGIN:VCALENDAR
VERSION:2.0
PRODID:-//Eventkalender Oberhessen - ECPv6.15.20//NONSGML v1.0//EN
CALSCALE:GREGORIAN
METHOD:PUBLISH
X-WR-CALNAME:Eventkalender Oberhessen
X-ORIGINAL-URL:https://kalender.landesgartenschau-oberhessen.de
X-WR-CALDESC:Veranstaltungen für Eventkalender Oberhessen
REFRESH-INTERVAL;VALUE=DURATION:PT1H
X-Robots-Tag:noindex
X-PUBLISHED-TTL:PT1H
BEGIN:VTIMEZONE
TZID:Europe/Berlin
BEGIN:DAYLIGHT
TZOFFSETFROM:+0100
TZOFFSETTO:+0200
TZNAME:CEST
DTSTART:20250330T010000
END:DAYLIGHT
BEGIN:STANDARD
TZOFFSETFROM:+0200
TZOFFSETTO:+0100
TZNAME:CET
DTSTART:20251026T010000
END:STANDARD
BEGIN:DAYLIGHT
TZOFFSETFROM:+0100
TZOFFSETTO:+0200
TZNAME:CEST
DTSTART:20260329T010000
END:DAYLIGHT
BEGIN:STANDARD
TZOFFSETFROM:+0200
TZOFFSETTO:+0100
TZNAME:CET
DTSTART:20261025T010000
END:STANDARD
BEGIN:DAYLIGHT
TZOFFSETFROM:+0100
TZOFFSETTO:+0200
TZNAME:CEST
DTSTART:20270328T010000
END:DAYLIGHT
BEGIN:STANDARD
TZOFFSETFROM:+0200
TZOFFSETTO:+0100
TZNAME:CET
DTSTART:20271031T010000
END:STANDARD
END:VTIMEZONE
BEGIN:VEVENT
DTSTART;TZID=Europe/Berlin:20260510T110000
DTEND;TZID=Europe/Berlin:20260510T130000
DTSTAMP:20260421T072241
CREATED:20260327T013151Z
LAST-MODIFIED:20260421T040302Z
UID:8598-1778410800-1778418000@kalender.landesgartenschau-oberhessen.de
SUMMARY:3.Benefiz-Konzert auf dem Herrnhaag am Muttertag
DESCRIPTION:Veranstaltungsort:\nVerein der Freunde des Herrnhaag e.V.\nHerrnhaag 3\n63654 Büdingen\nTelefon: +49 6042 7461\ninfo@herrnhaag.de \nStartseite \n\nVeranstalter:\nVerein der Freunde des Herrnhaag e.V.\nHerrnhaag 3\n63654 Büdingen\nTelefon: +49 6042 7461\ninfo@herrnhaag.de \nStartseite \n\ndes Ahrensburger Kammerensembles\nmit Werken von C.P.E.Bach\,J.Haydn\, P.Tschaikowsky u.a.
URL:https://kalender.landesgartenschau-oberhessen.de/event/3-benefiz-konzert-auf-dem-herrnhaag-am-muttertag/
LOCATION:Grafenhaus Herrnhaag
CATEGORIES:Büdingen
END:VEVENT
END:VCALENDAR